Index of /checkResults/devel/bioc-LATEST/SPLINTER/raw-results/kunpeng2
Name
Last modified
Size
Description
Parent Directory
-
buildsrc-out.txt
09-Jul-2024 00:45
1.3K
buildsrc-summary.dcf
09-Jul-2024 00:45
324
install-out.txt
06-Jul-2024 00:45
634
install-summary.dcf
06-Jul-2024 00:45
251