Index of /checkResults/devel/bioc-LATEST/SPLINTER/raw-results/kjohnson3
Name
Last modified
Size
Description
Parent Directory
-
install-summary.dcf
18-Jul-2024 00:43
271
install-out.txt
18-Jul-2024 00:43
1.0K
buildsrc-summary.dcf
18-Jul-2024 00:43
345
buildsrc-out.txt
18-Jul-2024 00:43
1.4K