Index of /checkResults/devel/bioc-LATEST/SPIA/raw-results
Name
Last modified
Size
Description
Parent Directory
-
merida1/
05-Mar-2024 01:40
-
info.dcf
29-Mar-2024 00:35
265
nebbiolo1/
29-Mar-2024 00:37
-
palomino3/
29-Mar-2024 00:38
-
lconway/
29-Mar-2024 00:40
-
kunpeng2/
29-Mar-2024 00:41
-