Back to Multiple platform build/check report for BioC 3.15
ABCDEFGHIJKLMNOPQR[S]TUVWXYZ

This page was generated on 2022-01-28 11:08:57 -0500 (Fri, 28 Jan 2022).

HostnameOSArch (*)R versionInstalled pkgs
nebbiolo1Linux (Ubuntu 20.04.4 LTS)x86_64R Under development (unstable) (2022-01-05 r81451) -- "Unsuffered Consequences" 4167
riesling1Windows Server 2019 Standardx64R Under development (unstable) (2021-11-21 r81221) -- "Unsuffered Consequences" 4062
palomino3Windows Server 2022 Datacenterx64R Under development (unstable) (2021-12-21 r81400 ucrt) -- "Unsuffered Consequences" 4004
merida1macOS 10.14.6 Mojavex86_64R Under development (unstable) (2022-01-05 r81451) -- "Unsuffered Consequences" 4121
Click on any hostname to see more info about the system (e.g. compilers)      (*) as reported by 'uname -p', except on Windows and Mac OS X

BUILD BIN results for SNPRelate on riesling1


To the developers/maintainers of the SNPRelate package:
- Please allow up to 24 hours (and sometimes 48 hours) for your latest push to git@git.bioconductor.org:packages/SNPRelate.git to
reflect on this report. See How and When does the builder pull? When will my changes propagate? here for more information.
- Make sure to use the following settings in order to reproduce any error or warning you see on this page.

raw results

Package 1827/2077HostnameOS / ArchINSTALLBUILDCHECKBUILD BIN
SNPRelate 1.29.0  (landing page)
Xiuwen Zheng
Snapshot Date: 2022-01-27 13:55:17 -0500 (Thu, 27 Jan 2022)
git_url: https://git.bioconductor.org/packages/SNPRelate
git_branch: master
git_last_commit: ae44832
git_last_commit_date: 2021-10-26 12:15:42 -0500 (Tue, 26 Oct 2021)
nebbiolo1Linux (Ubuntu 20.04.4 LTS) / x86_64  OK    OK    OK  UNNEEDED, same version is already published
riesling1Windows Server 2019 Standard / x64  OK    OK    OK    OK  
palomino3Windows Server 2022 Datacenter / x64  OK    OK    OK    OK  UNNEEDED, same version is already published
merida1macOS 10.14.6 Mojave / x86_64  OK    OK    OK    OK  UNNEEDED, same version is already published

Summary

Package: SNPRelate
Version: 1.29.0
Command: rm -rf SNPRelate.buildbin-libdir && mkdir SNPRelate.buildbin-libdir && D:\biocbuild\bbs-3.15-bioc\R\bin\R.exe CMD INSTALL --build --library=SNPRelate.buildbin-libdir SNPRelate_1.29.0.tar.gz
StartedAt: 2022-01-27 21:24:16 -0500 (Thu, 27 Jan 2022)
EndedAt: 2022-01-27 21:25:24 -0500 (Thu, 27 Jan 2022)
EllapsedTime: 67.5 seconds
RetCode: 0
Status:   OK  
PackageFile: SNPRelate_1.29.0.zip
PackageFileSize: 2.704 MiB

Command output

##############################################################################
##############################################################################
###
### Running command:
###
###   rm -rf SNPRelate.buildbin-libdir && mkdir SNPRelate.buildbin-libdir && D:\biocbuild\bbs-3.15-bioc\R\bin\R.exe CMD INSTALL --build --library=SNPRelate.buildbin-libdir SNPRelate_1.29.0.tar.gz
###
##############################################################################
##############################################################################


* installing *source* package 'SNPRelate' ...
** using staged installation
** libs
"C:/rtools40/mingw64/bin/"g++ -std=gnu++11  -I"D:/biocbuild/bbs-3.15-bioc/R/include" -DNDEBUG -DUSING_R -I. -I'D:/biocbuild/bbs-3.15-bioc/R/library/gdsfmt/include'   -I"C:/extsoft/include"     -O2 -Wall  -mfpmath=sse -msse2 -mstackrealign -fno-reorder-blocks-and-partition  -c ConvToGDS.cpp -o ConvToGDS.o
"C:/rtools40/mingw64/bin/"gcc  -I"D:/biocbuild/bbs-3.15-bioc/R/include" -DNDEBUG -DUSING_R -I. -I'D:/biocbuild/bbs-3.15-bioc/R/library/gdsfmt/include'   -I"C:/extsoft/include"     -O2 -Wall  -std=gnu99 -mfpmath=sse -msse2 -mstackrealign -fno-reorder-blocks-and-partition  -c R_SNPRelate.c -o R_SNPRelate.o
"C:/rtools40/mingw64/bin/"g++ -std=gnu++11  -I"D:/biocbuild/bbs-3.15-bioc/R/include" -DNDEBUG -DUSING_R -I. -I'D:/biocbuild/bbs-3.15-bioc/R/library/gdsfmt/include'   -I"C:/extsoft/include"     -O2 -Wall  -mfpmath=sse -msse2 -mstackrealign -fno-reorder-blocks-and-partition  -c SNPRelate.cpp -o SNPRelate.o
"C:/rtools40/mingw64/bin/"g++ -std=gnu++11  -I"D:/biocbuild/bbs-3.15-bioc/R/include" -DNDEBUG -DUSING_R -I. -I'D:/biocbuild/bbs-3.15-bioc/R/library/gdsfmt/include'   -I"C:/extsoft/include"     -O2 -Wall  -mfpmath=sse -msse2 -mstackrealign -fno-reorder-blocks-and-partition  -c ThreadPool.cpp -o ThreadPool.o
"C:/rtools40/mingw64/bin/"g++ -std=gnu++11  -I"D:/biocbuild/bbs-3.15-bioc/R/include" -DNDEBUG -DUSING_R -I. -I'D:/biocbuild/bbs-3.15-bioc/R/library/gdsfmt/include'   -I"C:/extsoft/include"     -O2 -Wall  -mfpmath=sse -msse2 -mstackrealign -fno-reorder-blocks-and-partition  -c dGenGWAS.cpp -o dGenGWAS.o
"C:/rtools40/mingw64/bin/"g++ -std=gnu++11  -I"D:/biocbuild/bbs-3.15-bioc/R/include" -DNDEBUG -DUSING_R -I. -I'D:/biocbuild/bbs-3.15-bioc/R/library/gdsfmt/include'   -I"C:/extsoft/include"     -O2 -Wall  -mfpmath=sse -msse2 -mstackrealign -fno-reorder-blocks-and-partition  -c dVect.cpp -o dVect.o
"C:/rtools40/mingw64/bin/"g++ -std=gnu++11  -I"D:/biocbuild/bbs-3.15-bioc/R/include" -DNDEBUG -DUSING_R -I. -I'D:/biocbuild/bbs-3.15-bioc/R/library/gdsfmt/include'   -I"C:/extsoft/include"     -O2 -Wall  -mfpmath=sse -msse2 -mstackrealign -fno-reorder-blocks-and-partition  -c genBeta.cpp -o genBeta.o
"C:/rtools40/mingw64/bin/"g++ -std=gnu++11  -I"D:/biocbuild/bbs-3.15-bioc/R/include" -DNDEBUG -DUSING_R -I. -I'D:/biocbuild/bbs-3.15-bioc/R/library/gdsfmt/include'   -I"C:/extsoft/include"     -O2 -Wall  -mfpmath=sse -msse2 -mstackrealign -fno-reorder-blocks-and-partition  -c genEIGMIX.cpp -o genEIGMIX.o
"C:/rtools40/mingw64/bin/"g++ -std=gnu++11  -I"D:/biocbuild/bbs-3.15-bioc/R/include" -DNDEBUG -DUSING_R -I. -I'D:/biocbuild/bbs-3.15-bioc/R/library/gdsfmt/include'   -I"C:/extsoft/include"     -O2 -Wall  -mfpmath=sse -msse2 -mstackrealign -fno-reorder-blocks-and-partition  -c genFst.cpp -o genFst.o
"C:/rtools40/mingw64/bin/"g++ -std=gnu++11  -I"D:/biocbuild/bbs-3.15-bioc/R/include" -DNDEBUG -DUSING_R -I. -I'D:/biocbuild/bbs-3.15-bioc/R/library/gdsfmt/include'   -I"C:/extsoft/include"     -O2 -Wall  -mfpmath=sse -msse2 -mstackrealign -fno-reorder-blocks-and-partition  -c genHWE.cpp -o genHWE.o
"C:/rtools40/mingw64/bin/"g++ -std=gnu++11  -I"D:/biocbuild/bbs-3.15-bioc/R/include" -DNDEBUG -DUSING_R -I. -I'D:/biocbuild/bbs-3.15-bioc/R/library/gdsfmt/include'   -I"C:/extsoft/include"     -O2 -Wall  -mfpmath=sse -msse2 -mstackrealign -fno-reorder-blocks-and-partition  -c genIBD.cpp -o genIBD.o
"C:/rtools40/mingw64/bin/"g++ -std=gnu++11  -I"D:/biocbuild/bbs-3.15-bioc/R/include" -DNDEBUG -DUSING_R -I. -I'D:/biocbuild/bbs-3.15-bioc/R/library/gdsfmt/include'   -I"C:/extsoft/include"     -O2 -Wall  -mfpmath=sse -msse2 -mstackrealign -fno-reorder-blocks-and-partition  -c genIBS.cpp -o genIBS.o
"C:/rtools40/mingw64/bin/"g++ -std=gnu++11  -I"D:/biocbuild/bbs-3.15-bioc/R/include" -DNDEBUG -DUSING_R -I. -I'D:/biocbuild/bbs-3.15-bioc/R/library/gdsfmt/include'   -I"C:/extsoft/include"     -O2 -Wall  -mfpmath=sse -msse2 -mstackrealign -fno-reorder-blocks-and-partition  -c genKING.cpp -o genKING.o
"C:/rtools40/mingw64/bin/"g++ -std=gnu++11  -I"D:/biocbuild/bbs-3.15-bioc/R/include" -DNDEBUG -DUSING_R -I. -I'D:/biocbuild/bbs-3.15-bioc/R/library/gdsfmt/include'   -I"C:/extsoft/include"     -O2 -Wall  -mfpmath=sse -msse2 -mstackrealign -fno-reorder-blocks-and-partition  -c genLD.cpp -o genLD.o
"C:/rtools40/mingw64/bin/"g++ -std=gnu++11  -I"D:/biocbuild/bbs-3.15-bioc/R/include" -DNDEBUG -DUSING_R -I. -I'D:/biocbuild/bbs-3.15-bioc/R/library/gdsfmt/include'   -I"C:/extsoft/include"     -O2 -Wall  -mfpmath=sse -msse2 -mstackrealign -fno-reorder-blocks-and-partition  -c genPCA.cpp -o genPCA.o
"C:/rtools40/mingw64/bin/"g++ -std=gnu++11  -I"D:/biocbuild/bbs-3.15-bioc/R/include" -DNDEBUG -DUSING_R -I. -I'D:/biocbuild/bbs-3.15-bioc/R/library/gdsfmt/include'   -I"C:/extsoft/include"     -O2 -Wall  -mfpmath=sse -msse2 -mstackrealign -fno-reorder-blocks-and-partition  -c genSlideWin.cpp -o genSlideWin.o
C:/rtools40/mingw64/bin/g++ -std=gnu++11 -shared -s -static-libgcc -o SNPRelate.dll tmp.def ConvToGDS.o R_SNPRelate.o SNPRelate.o ThreadPool.o dGenGWAS.o dVect.o genBeta.o genEIGMIX.o genFst.o genHWE.o genIBD.o genIBS.o genKING.o genLD.o genPCA.o genSlideWin.o -LD:/biocbuild/bbs-3.15-bioc/R/bin/x64 -lRlapack -LD:/biocbuild/bbs-3.15-bioc/R/bin/x64 -lRblas -lgfortran -lm -lquadmath -LC:/extsoft/lib/x64 -LC:/extsoft/lib -LD:/biocbuild/bbs-3.15-bioc/R/bin/x64 -lR
installing to D:/biocbuild/bbs-3.15-bioc/meat/SNPRelate.buildbin-libdir/00LOCK-SNPRelate/00new/SNPRelate/libs/x64
** R
** data
** inst
** byte-compile and prepare package for lazy loading
** help
*** installing help indices
  converting help for package 'SNPRelate'
    finding HTML links ... done
    SNPGDSFileClass-class                   html  
    SNPRelate-package                       html  
    hapmap_geno                             html  
    snpgdsAdmixPlot                         html  
    snpgdsAdmixProp                         html  
    snpgdsAlleleSwitch                      html  
    snpgdsApartSelection                    html  
    snpgdsBED2GDS                           html  
    finding level-2 HTML links ... done

    snpgdsClose                             html  
    snpgdsCombineGeno                       html  
    snpgdsCreateGeno                        html  
    snpgdsCreateGenoSet                     html  
    snpgdsCutTree                           html  
    snpgdsDiss                              html  
    snpgdsDrawTree                          html  
    snpgdsEIGMIX                            html  
    snpgdsErrMsg                            html  
    snpgdsExampleFileName                   html  
    snpgdsFst                               html  
    snpgdsGDS2BED                           html  
    snpgdsGDS2Eigen                         html  
    snpgdsGDS2PED                           html  
    snpgdsGEN2GDS                           html  
    snpgdsGRM                               html  
    snpgdsGetGeno                           html  
    snpgdsHCluster                          html  
    snpgdsHWE                               html  
    snpgdsIBDKING                           html  
    snpgdsIBDMLE                            html  
    snpgdsIBDMLELogLik                      html  
    snpgdsIBDMoM                            html  
    snpgdsIBDSelection                      html  
    snpgdsIBS                               html  
    snpgdsIBSNum                            html  
    snpgdsIndInb                            html  
    snpgdsIndInbCoef                        html  
    snpgdsIndivBeta                         html  
    snpgdsLDMat                             html  
    snpgdsLDpair                            html  
    snpgdsLDpruning                         html  
    snpgdsMergeGRM                          html  
    snpgdsOpen                              html  
    snpgdsOption                            html  
    snpgdsPCA                               html  
    snpgdsPCACorr                           html  
    snpgdsPCASNPLoading                     html  
    snpgdsPCASampLoading                    html  
    snpgdsPED2GDS                           html  
    snpgdsPairIBD                           html  
    snpgdsPairIBDMLELogLik                  html  
    snpgdsPairScore                         html  
    snpgdsSNPList                           html  
    snpgdsSNPListClass                      html  
    snpgdsSNPListIntersect                  html  
    snpgdsSNPRateFreq                       html  
    snpgdsSampMissRate                      html  
    snpgdsSelectSNP                         html  
    snpgdsSlidingWindow                     html  
    snpgdsSummary                           html  
    snpgdsTranspose                         html  
    snpgdsVCF2GDS                           html  
    snpgdsVCF2GDS_R                         html  
** building package indices
** installing vignettes
** testing if installed package can be loaded from temporary location
** testing if installed package can be loaded from final location
** testing if installed package keeps a record of temporary installation path
* MD5 sums
packaged installation of 'SNPRelate' as SNPRelate_1.29.0.zip
* DONE (SNPRelate)