Back to Multiple platform build/check report for BioC 3.17:   simplified   long
ABCDEFGHIJKLMNOPQR[S]TUVWXYZ

This page was generated on 2023-03-31 11:02:54 -0400 (Fri, 31 Mar 2023).

HostnameOSArch (*)R versionInstalled pkgs
nebbiolo1Linux (Ubuntu 22.04.1 LTS)x86_64R Under development (unstable) (2023-03-16 r83996) -- "Unsuffered Consequences" 4547
palomino3Windows Server 2022 Datacenterx64R Under development (unstable) (2023-03-15 r83984 ucrt) -- "Unsuffered Consequences" 4308
Click on any hostname to see more info about the system (e.g. compilers)      (*) as reported by 'uname -p', except on Windows and Mac OS X

BUILD results for SNPRelate on nebbiolo1


To the developers/maintainers of the SNPRelate package:
- Allow up to 24 hours (and sometimes 48 hours) for your latest push to git@git.bioconductor.org:packages/SNPRelate.git to reflect on this report. See Troubleshooting Build Report for more information.

- Use the following Renviron settings to reproduce errors and warnings.

Note: If "R CMD check" recently failed on the Linux builder over a missing dependency, add the missing dependency to "Suggests" in your DESCRIPTION file. See the Renviron.bioc for details.

raw results

Package 1928/2195HostnameOS / ArchINSTALLBUILDCHECKBUILD BIN
SNPRelate 1.33.2  (landing page)
Xiuwen Zheng
Snapshot Date: 2023-03-30 14:00:16 -0400 (Thu, 30 Mar 2023)
git_url: https://git.bioconductor.org/packages/SNPRelate
git_branch: devel
git_last_commit: 317c54e
git_last_commit_date: 2023-03-21 19:47:31 -0400 (Tue, 21 Mar 2023)
nebbiolo1Linux (Ubuntu 22.04.1 LTS) / x86_64  OK    OK    OK  UNNEEDED, same version is already published
palomino3Windows Server 2022 Datacenter / x64  OK    OK    OK    OK  UNNEEDED, same version is already published

Summary

Package: SNPRelate
Version: 1.33.2
Command: /home/biocbuild/bbs-3.17-bioc/R/bin/R CMD build --keep-empty-dirs --no-resave-data SNPRelate
StartedAt: 2023-03-30 18:08:03 -0400 (Thu, 30 Mar 2023)
EndedAt: 2023-03-30 18:08:51 -0400 (Thu, 30 Mar 2023)
EllapsedTime: 47.8 seconds
RetCode: 0
Status:   OK  
PackageFile: SNPRelate_1.33.2.tar.gz
PackageFileSize: 3.043 MiB

Command output

##############################################################################
##############################################################################
###
### Running command:
###
###   /home/biocbuild/bbs-3.17-bioc/R/bin/R CMD build --keep-empty-dirs --no-resave-data SNPRelate
###
##############################################################################
##############################################################################


* checking for file ‘SNPRelate/DESCRIPTION’ ... OK
* preparing ‘SNPRelate’:
* checking DESCRIPTION meta-information ... OK
* cleaning src
* installing the package to build vignettes
* creating vignettes ... OK
* cleaning src
* checking for LF line-endings in source and make files and shell scripts
* checking for empty or unneeded directories
* building ‘SNPRelate_1.33.2.tar.gz’