Back to Multiple platform build/check report for BioC 3.17:   simplified   long
ABCDEFGHIJKLMNOPQR[S]TUVWXYZ

This page was generated on 2023-03-24 11:07:14 -0400 (Fri, 24 Mar 2023).

HostnameOSArch (*)R versionInstalled pkgs
nebbiolo1Linux (Ubuntu 22.04.1 LTS)x86_64R Under development (unstable) (2023-03-16 r83996) -- "Unsuffered Consequences" 4546
palomino3Windows Server 2022 Datacenterx64R Under development (unstable) (2023-03-15 r83984 ucrt) -- "Unsuffered Consequences" 4307
merida1macOS 10.14.6 Mojavex86_64R Under development (unstable) (2023-03-16 r83985) -- "Unsuffered Consequences" 4299
Click on any hostname to see more info about the system (e.g. compilers)      (*) as reported by 'uname -p', except on Windows and Mac OS X

INSTALL results for SNPRelate on merida1


To the developers/maintainers of the SNPRelate package:
- Please allow up to 24 hours (and sometimes 48 hours) for your latest push to git@git.bioconductor.org:packages/SNPRelate.git to
reflect on this report. See How and When does the builder pull? When will my changes propagate? for more information.
- Make sure to use the following settings in order to reproduce any error or warning you see on this page.

raw results

Package 1928/2195HostnameOS / ArchINSTALLBUILDCHECKBUILD BIN
SNPRelate 1.33.2  (landing page)
Xiuwen Zheng
Snapshot Date: 2023-03-23 14:00:15 -0400 (Thu, 23 Mar 2023)
git_url: https://git.bioconductor.org/packages/SNPRelate
git_branch: devel
git_last_commit: 317c54e
git_last_commit_date: 2023-03-21 19:47:31 -0400 (Tue, 21 Mar 2023)
nebbiolo1Linux (Ubuntu 22.04.1 LTS) / x86_64  OK    OK    OK  UNNEEDED, same version is already published
palomino3Windows Server 2022 Datacenter / x64  OK    OK    OK    OK  UNNEEDED, same version is already published
merida1macOS 10.14.6 Mojave / x86_64  OK    OK    OK    OK  UNNEEDED, same version is already published

Summary

Package: SNPRelate
Version: 1.33.2
Command: /Library/Frameworks/R.framework/Resources/bin/R CMD INSTALL SNPRelate
StartedAt: 2023-03-23 15:10:50 -0400 (Thu, 23 Mar 2023)
EndedAt: 2023-03-23 15:12:01 -0400 (Thu, 23 Mar 2023)
EllapsedTime: 71.3 seconds
RetCode: 0
Status:   OK  

Command output

##############################################################################
##############################################################################
###
### Running command:
###
###   /Library/Frameworks/R.framework/Resources/bin/R CMD INSTALL SNPRelate
###
##############################################################################
##############################################################################


* installing to library ‘/Library/Frameworks/R.framework/Versions/4.3/Resources/library’
* installing *source* package ‘SNPRelate’ ...
** using staged installation
** libs
using C compiler: ‘Apple clang version 11.0.0 (clang-1100.0.33.17)’
using C++ compiler: ‘Apple clang version 11.0.0 (clang-1100.0.33.17)’
using SDK: ‘’
clang++ -mmacosx-version-min=10.13 -std=gnu++17 -I"/Library/Frameworks/R.framework/Resources/include" -DNDEBUG -DUSING_R -DUSE_FC_LEN_T -I. -I'/Library/Frameworks/R.framework/Versions/4.3/Resources/library/gdsfmt/include' -I/usr/local/include    -fPIC  -Wall -g -O2  -c ConvToGDS.cpp -o ConvToGDS.o
clang -mmacosx-version-min=10.13 -I"/Library/Frameworks/R.framework/Resources/include" -DNDEBUG -DUSING_R -DUSE_FC_LEN_T -I. -I'/Library/Frameworks/R.framework/Versions/4.3/Resources/library/gdsfmt/include' -I/usr/local/include    -fPIC  -Wall -g -O2  -c R_SNPRelate.c -o R_SNPRelate.o
clang++ -mmacosx-version-min=10.13 -std=gnu++17 -I"/Library/Frameworks/R.framework/Resources/include" -DNDEBUG -DUSING_R -DUSE_FC_LEN_T -I. -I'/Library/Frameworks/R.framework/Versions/4.3/Resources/library/gdsfmt/include' -I/usr/local/include    -fPIC  -Wall -g -O2  -c SNPRelate.cpp -o SNPRelate.o
clang++ -mmacosx-version-min=10.13 -std=gnu++17 -I"/Library/Frameworks/R.framework/Resources/include" -DNDEBUG -DUSING_R -DUSE_FC_LEN_T -I. -I'/Library/Frameworks/R.framework/Versions/4.3/Resources/library/gdsfmt/include' -I/usr/local/include    -fPIC  -Wall -g -O2  -c ThreadPool.cpp -o ThreadPool.o
clang++ -mmacosx-version-min=10.13 -std=gnu++17 -I"/Library/Frameworks/R.framework/Resources/include" -DNDEBUG -DUSING_R -DUSE_FC_LEN_T -I. -I'/Library/Frameworks/R.framework/Versions/4.3/Resources/library/gdsfmt/include' -I/usr/local/include    -fPIC  -Wall -g -O2  -c dGenGWAS.cpp -o dGenGWAS.o
clang++ -mmacosx-version-min=10.13 -std=gnu++17 -I"/Library/Frameworks/R.framework/Resources/include" -DNDEBUG -DUSING_R -DUSE_FC_LEN_T -I. -I'/Library/Frameworks/R.framework/Versions/4.3/Resources/library/gdsfmt/include' -I/usr/local/include    -fPIC  -Wall -g -O2  -c dVect.cpp -o dVect.o
clang++ -mmacosx-version-min=10.13 -std=gnu++17 -I"/Library/Frameworks/R.framework/Resources/include" -DNDEBUG -DUSING_R -DUSE_FC_LEN_T -I. -I'/Library/Frameworks/R.framework/Versions/4.3/Resources/library/gdsfmt/include' -I/usr/local/include    -fPIC  -Wall -g -O2  -c genBeta.cpp -o genBeta.o
clang++ -mmacosx-version-min=10.13 -std=gnu++17 -I"/Library/Frameworks/R.framework/Resources/include" -DNDEBUG -DUSING_R -DUSE_FC_LEN_T -I. -I'/Library/Frameworks/R.framework/Versions/4.3/Resources/library/gdsfmt/include' -I/usr/local/include    -fPIC  -Wall -g -O2  -c genEIGMIX.cpp -o genEIGMIX.o
clang++ -mmacosx-version-min=10.13 -std=gnu++17 -I"/Library/Frameworks/R.framework/Resources/include" -DNDEBUG -DUSING_R -DUSE_FC_LEN_T -I. -I'/Library/Frameworks/R.framework/Versions/4.3/Resources/library/gdsfmt/include' -I/usr/local/include    -fPIC  -Wall -g -O2  -c genFst.cpp -o genFst.o
clang++ -mmacosx-version-min=10.13 -std=gnu++17 -I"/Library/Frameworks/R.framework/Resources/include" -DNDEBUG -DUSING_R -DUSE_FC_LEN_T -I. -I'/Library/Frameworks/R.framework/Versions/4.3/Resources/library/gdsfmt/include' -I/usr/local/include    -fPIC  -Wall -g -O2  -c genHWE.cpp -o genHWE.o
clang++ -mmacosx-version-min=10.13 -std=gnu++17 -I"/Library/Frameworks/R.framework/Resources/include" -DNDEBUG -DUSING_R -DUSE_FC_LEN_T -I. -I'/Library/Frameworks/R.framework/Versions/4.3/Resources/library/gdsfmt/include' -I/usr/local/include    -fPIC  -Wall -g -O2  -c genIBD.cpp -o genIBD.o
clang++ -mmacosx-version-min=10.13 -std=gnu++17 -I"/Library/Frameworks/R.framework/Resources/include" -DNDEBUG -DUSING_R -DUSE_FC_LEN_T -I. -I'/Library/Frameworks/R.framework/Versions/4.3/Resources/library/gdsfmt/include' -I/usr/local/include    -fPIC  -Wall -g -O2  -c genIBS.cpp -o genIBS.o
clang++ -mmacosx-version-min=10.13 -std=gnu++17 -I"/Library/Frameworks/R.framework/Resources/include" -DNDEBUG -DUSING_R -DUSE_FC_LEN_T -I. -I'/Library/Frameworks/R.framework/Versions/4.3/Resources/library/gdsfmt/include' -I/usr/local/include    -fPIC  -Wall -g -O2  -c genKING.cpp -o genKING.o
clang++ -mmacosx-version-min=10.13 -std=gnu++17 -I"/Library/Frameworks/R.framework/Resources/include" -DNDEBUG -DUSING_R -DUSE_FC_LEN_T -I. -I'/Library/Frameworks/R.framework/Versions/4.3/Resources/library/gdsfmt/include' -I/usr/local/include    -fPIC  -Wall -g -O2  -c genLD.cpp -o genLD.o
clang++ -mmacosx-version-min=10.13 -std=gnu++17 -I"/Library/Frameworks/R.framework/Resources/include" -DNDEBUG -DUSING_R -DUSE_FC_LEN_T -I. -I'/Library/Frameworks/R.framework/Versions/4.3/Resources/library/gdsfmt/include' -I/usr/local/include    -fPIC  -Wall -g -O2  -c genPCA.cpp -o genPCA.o
clang++ -mmacosx-version-min=10.13 -std=gnu++17 -I"/Library/Frameworks/R.framework/Resources/include" -DNDEBUG -DUSING_R -DUSE_FC_LEN_T -I. -I'/Library/Frameworks/R.framework/Versions/4.3/Resources/library/gdsfmt/include' -I/usr/local/include    -fPIC  -Wall -g -O2  -c genSlideWin.cpp -o genSlideWin.o
clang++ -mmacosx-version-min=10.13 -std=gnu++17 -dynamiclib -Wl,-headerpad_max_install_names -undefined dynamic_lookup -single_module -multiply_defined suppress -L/Library/Frameworks/R.framework/Resources/lib -L/usr/local/lib -o SNPRelate.so ConvToGDS.o R_SNPRelate.o SNPRelate.o ThreadPool.o dGenGWAS.o dVect.o genBeta.o genEIGMIX.o genFst.o genHWE.o genIBD.o genIBS.o genKING.o genLD.o genPCA.o genSlideWin.o -lpthread -L/Library/Frameworks/R.framework/Resources/lib -lRlapack -L/Library/Frameworks/R.framework/Resources/lib -lRblas -L/usr/local/gfortran/lib/gcc/x86_64-apple-darwin18/8.2.0 -L/usr/local/gfortran/lib -lgfortran -lquadmath -lm -F/Library/Frameworks/R.framework/.. -framework R -Wl,-framework -Wl,CoreFoundation
installing to /Library/Frameworks/R.framework/Versions/4.3/Resources/library/00LOCK-SNPRelate/00new/SNPRelate/libs
** R
** data
*** moving datasets to lazyload DB
** inst
** byte-compile and prepare package for lazy loading
** help
*** installing help indices
** building package indices
** installing vignettes
** testing if installed package can be loaded from temporary location
** checking absolute paths in shared objects and dynamic libraries
** testing if installed package can be loaded from final location
** testing if installed package keeps a record of temporary installation path
* DONE (SNPRelate)