Back to Multiple platform build/check report for BioC 3.17
ABCDEFGHIJKLMNOPQR[S]TUVWXYZ

This page was generated on 2022-11-25 11:10:34 -0500 (Fri, 25 Nov 2022).

HostnameOSArch (*)R versionInstalled pkgs
nebbiolo1Linux (Ubuntu 20.04.5 LTS)x86_64R Under development (unstable) (2022-10-25 r83175) -- "Unsuffered Consequences" 4461
palomino3Windows Server 2022 Datacenterx64R Under development (unstable) (2022-10-11 r83083 ucrt) -- "Unsuffered Consequences" 4200
merida1macOS 10.14.6 Mojavex86_64R Under development (unstable) (2022-11-13 r83342) -- "Unsuffered Consequences" 4230
Click on any hostname to see more info about the system (e.g. compilers)      (*) as reported by 'uname -p', except on Windows and Mac OS X

BUILD results for SNPRelate on merida1


To the developers/maintainers of the SNPRelate package:
- Please allow up to 24 hours (and sometimes 48 hours) for your latest push to git@git.bioconductor.org:packages/SNPRelate.git to
reflect on this report. See How and When does the builder pull? When will my changes propagate? for more information.
- Make sure to use the following settings in order to reproduce any error or warning you see on this page.

raw results

Package 1889/2154HostnameOS / ArchINSTALLBUILDCHECKBUILD BIN
SNPRelate 1.33.0  (landing page)
Xiuwen Zheng
Snapshot Date: 2022-11-24 14:00:14 -0500 (Thu, 24 Nov 2022)
git_url: https://git.bioconductor.org/packages/SNPRelate
git_branch: master
git_last_commit: 1e70a21
git_last_commit_date: 2022-11-01 11:10:14 -0500 (Tue, 01 Nov 2022)
nebbiolo1Linux (Ubuntu 20.04.5 LTS) / x86_64  OK    OK    OK  UNNEEDED, same version is already published
palomino3Windows Server 2022 Datacenter / x64  OK    OK    OK    OK  UNNEEDED, same version is already published
merida1macOS 10.14.6 Mojave / x86_64  OK    OK    OK    OK  UNNEEDED, same version is already published

Summary

Package: SNPRelate
Version: 1.33.0
Command: /Library/Frameworks/R.framework/Resources/bin/R CMD build --keep-empty-dirs --no-resave-data SNPRelate
StartedAt: 2022-11-24 21:19:48 -0500 (Thu, 24 Nov 2022)
EndedAt: 2022-11-24 21:22:05 -0500 (Thu, 24 Nov 2022)
EllapsedTime: 137.1 seconds
RetCode: 0
Status:   OK  
PackageFile: SNPRelate_1.33.0.tar.gz
PackageFileSize: 2.92 MiB

Command output

##############################################################################
##############################################################################
###
### Running command:
###
###   /Library/Frameworks/R.framework/Resources/bin/R CMD build --keep-empty-dirs --no-resave-data SNPRelate
###
##############################################################################
##############################################################################


* checking for file ‘SNPRelate/DESCRIPTION’ ... OK
* preparing ‘SNPRelate’:
* checking DESCRIPTION meta-information ... OK
* cleaning src
* installing the package to build vignettes
* creating vignettes ... OK
* cleaning src
* checking for LF line-endings in source and make files and shell scripts
* checking for empty or unneeded directories
* building ‘SNPRelate_1.33.0.tar.gz’