Back to Multiple platform build/check report for BioC 3.15
ABCDEFGHIJKLMNOPQR[S]TUVWXYZ

This page was generated on 2022-01-17 11:08:26 -0500 (Mon, 17 Jan 2022).

HostnameOSArch (*)R versionInstalled pkgs
nebbiolo1Linux (Ubuntu 20.04.4 LTS)x86_64R Under development (unstable) (2022-01-05 r81451) -- "Unsuffered Consequences" 4161
riesling1Windows Server 2019 Standardx64R Under development (unstable) (2021-11-21 r81221) -- "Unsuffered Consequences" 4056
palomino3Windows Server 2022 Datacenterx64R Under development (unstable) (2021-12-21 r81400 ucrt) -- "Unsuffered Consequences" 3998
merida1macOS 10.14.6 Mojavex86_64R Under development (unstable) (2022-01-05 r81451) -- "Unsuffered Consequences" 4115
Click on any hostname to see more info about the system (e.g. compilers)      (*) as reported by 'uname -p', except on Windows and Mac OS X

INSTALL results for SMITE on riesling1


To the developers/maintainers of the SMITE package:
- Please allow up to 24 hours (and sometimes 48 hours) for your latest push to git@git.bioconductor.org:packages/SMITE.git to
reflect on this report. See How and When does the builder pull? When will my changes propagate? here for more information.
- Make sure to use the following settings in order to reproduce any error or warning you see on this page.

raw results

Package 1816/2074HostnameOS / ArchINSTALLBUILDCHECKBUILD BIN
SMITE 1.23.1  (landing page)
Neil Ari Wijetunga
Snapshot Date: 2022-01-16 13:55:18 -0500 (Sun, 16 Jan 2022)
git_url: https://git.bioconductor.org/packages/SMITE
git_branch: master
git_last_commit: 80aaa0f
git_last_commit_date: 2021-11-21 00:55:42 -0500 (Sun, 21 Nov 2021)
nebbiolo1Linux (Ubuntu 20.04.4 LTS) / x86_64  OK    OK    OK  UNNEEDED, same version is already published
riesling1Windows Server 2019 Standard / x64  OK    OK    OK    OK  
palomino3Windows Server 2022 Datacenter / x64  OK    OK    OK    OK  NO, package depends on 'GenomicRanges' which is not available
merida1macOS 10.14.6 Mojave / x86_64  OK    OK    OK    OK  UNNEEDED, same version is already published

Summary

Package: SMITE
Version: 1.23.1
Command: D:\biocbuild\bbs-3.15-bioc\R\bin\R.exe CMD INSTALL SMITE
StartedAt: 2022-01-16 16:07:58 -0500 (Sun, 16 Jan 2022)
EndedAt: 2022-01-16 16:09:09 -0500 (Sun, 16 Jan 2022)
EllapsedTime: 71.8 seconds
RetCode: 0
Status:   OK  

Command output

##############################################################################
##############################################################################
###
### Running command:
###
###   D:\biocbuild\bbs-3.15-bioc\R\bin\R.exe CMD INSTALL SMITE
###
##############################################################################
##############################################################################


* installing to library 'D:/biocbuild/bbs-3.15-bioc/R/library'
* installing *source* package 'SMITE' ...
** using staged installation
** R
** data
** inst
** byte-compile and prepare package for lazy loading
** help
*** installing help indices
  converting help for package 'SMITE'
    finding HTML links ... done
    Reactome.Symbol.Igraph                  html  
    SMITE-package                           html  
    addShadowText                           html  
    annotateExpression                      html  
    annotateModification                    html  
    convertGeneIds                          html  
    curated_expression                      html  
    extractExpression                       html  
    extractGOseq                            html  
    extractModification                     html  
    extractModules                          html  
    extractScores                           html  
    genes_for_conversiontest                html  
    hg19_gene_bed                           html  
    highScores                              html  
    histone_h3k4me1                         html  
    makePvalueAnnotation                    html  
    makePvalueObject                        html  
    methylationdata                         html  
    normalizePval                           html  
    plotCompareScores                       html  
    plotDensityPval                         html  
    plotModule                              html  
    removeModification                      html  
    runBioNet                               html  
    runGOseq                                html  
    runSpinglass                            html  
    scorePval                               html  
    stoufferTest                            html  
    test_annotation_score_data              html  
** building package indices
** installing vignettes
** testing if installed package can be loaded from temporary location
** testing if installed package can be loaded from final location
** testing if installed package keeps a record of temporary installation path
* DONE (SMITE)
Making 'packages.html' ...Warning in packageDescription(i, lib.loc = lib, fields = "Title", encoding = "UTF-8") :
  DESCRIPTION file of package 'IMAS' is missing or broken
 done