Name | Last modified | Size | Description | |
---|---|---|---|---|
Parent Directory | - | |||
buildbin-out.txt | 29-Mar-2024 00:40 | 4.7K | ||
buildbin-summary.dcf | 29-Mar-2024 00:40 | 512 | ||
buildsrc-out.txt | 29-Mar-2024 00:40 | 897 | ||
buildsrc-summary.dcf | 29-Mar-2024 00:40 | 418 | ||
checksrc-out.txt | 29-Mar-2024 00:40 | 5.5K | ||
checksrc-summary.dcf | 29-Mar-2024 00:40 | 431 | ||
install-out.txt | 29-Mar-2024 00:40 | 2.9K | ||
install-summary.dcf | 29-Mar-2024 00:40 | 263 | ||