Back to Multiple platform build/check report for BioC 3.15
ABCDEFGHIJKLMNOPQR[S]TUVWXYZ

This page was generated on 2022-01-24 11:08:26 -0500 (Mon, 24 Jan 2022).

HostnameOSArch (*)R versionInstalled pkgs
nebbiolo1Linux (Ubuntu 20.04.4 LTS)x86_64R Under development (unstable) (2022-01-05 r81451) -- "Unsuffered Consequences" 4163
riesling1Windows Server 2019 Standardx64R Under development (unstable) (2021-11-21 r81221) -- "Unsuffered Consequences" 4058
palomino3Windows Server 2022 Datacenterx64R Under development (unstable) (2021-12-21 r81400 ucrt) -- "Unsuffered Consequences" 4000
merida1macOS 10.14.6 Mojavex86_64R Under development (unstable) (2022-01-05 r81451) -- "Unsuffered Consequences" 4117
Click on any hostname to see more info about the system (e.g. compilers)      (*) as reported by 'uname -p', except on Windows and Mac OS X

INSTALL results for SIMD on riesling1


To the developers/maintainers of the SIMD package:
- Please allow up to 24 hours (and sometimes 48 hours) for your latest push to git@git.bioconductor.org:packages/SIMD.git to
reflect on this report. See How and When does the builder pull? When will my changes propagate? here for more information.
- Make sure to use the following settings in order to reproduce any error or warning you see on this page.

raw results

Package 1794/2075HostnameOS / ArchINSTALLBUILDCHECKBUILD BIN
SIMD 1.13.0  (landing page)
Jiadi Zhu
Snapshot Date: 2022-01-23 13:55:15 -0500 (Sun, 23 Jan 2022)
git_url: https://git.bioconductor.org/packages/SIMD
git_branch: master
git_last_commit: 84a8f65
git_last_commit_date: 2021-10-26 12:46:50 -0500 (Tue, 26 Oct 2021)
nebbiolo1Linux (Ubuntu 20.04.4 LTS) / x86_64  OK    OK    OK  UNNEEDED, same version is already published
riesling1Windows Server 2019 Standard / x64  OK    OK    OK    OK  
palomino3Windows Server 2022 Datacenter / x64  OK    OK    OK    OK  UNNEEDED, same version is already published
merida1macOS 10.14.6 Mojave / x86_64  OK    OK    OK    OK  UNNEEDED, same version is already published

Summary

Package: SIMD
Version: 1.13.0
Command: D:\biocbuild\bbs-3.15-bioc\R\bin\R.exe CMD INSTALL SIMD
StartedAt: 2022-01-23 15:35:24 -0500 (Sun, 23 Jan 2022)
EndedAt: 2022-01-23 15:36:19 -0500 (Sun, 23 Jan 2022)
EllapsedTime: 54.9 seconds
RetCode: 0
Status:   OK  

Command output

##############################################################################
##############################################################################
###
### Running command:
###
###   D:\biocbuild\bbs-3.15-bioc\R\bin\R.exe CMD INSTALL SIMD
###
##############################################################################
##############################################################################


* installing to library 'D:/biocbuild/bbs-3.15-bioc/R/library'
* installing *source* package 'SIMD' ...
** using staged installation
** libs
"C:/rtools40/mingw64/bin/"gcc  -I"D:/biocbuild/bbs-3.15-bioc/R/include" -DNDEBUG     -I"C:/extsoft/include"     -O2 -Wall  -std=gnu99 -mfpmath=sse -msse2 -mstackrealign -fno-reorder-blocks-and-partition  -c init.c -o init.o
"C:/rtools40/mingw64/bin/"gcc  -I"D:/biocbuild/bbs-3.15-bioc/R/include" -DNDEBUG     -I"C:/extsoft/include"     -O2 -Wall  -std=gnu99 -mfpmath=sse -msse2 -mstackrealign -fno-reorder-blocks-and-partition  -c pvalueclassify.c -o pvalueclassify.o
C:/rtools40/mingw64/bin/gcc -shared -s -static-libgcc -o SIMD.dll tmp.def init.o pvalueclassify.o -LC:/extsoft/lib/x64 -LC:/extsoft/lib -LD:/biocbuild/bbs-3.15-bioc/R/bin/x64 -lR
installing to D:/biocbuild/bbs-3.15-bioc/R/library/00LOCK-SIMD/00new/SIMD/libs/x64
** R
** data
*** moving datasets to lazyload DB
** inst
** byte-compile and prepare package for lazy loading
** help
*** installing help indices
  converting help for package 'SIMD'
    finding HTML links ... done
    EM2_H1ESB1_MeDIP_sigleCpG               html  
    EM2_H1ESB2_MeDIP_sigleCpG               html  
    EM_H1ESB1_MeDIP_sigleCpG                html  
    EMalgorithm                             html  
    EMtest                                  html  
    H1ESB1_MRE_sigleCpG                     html  
    H1ESB2_MRE_sigleCpG                     html  
    SIMD-package                            html  
    all_CpGsite_bin_chr18                   html  
    classifypvalue                          html  
    emalgth                                 html  
    emalgth1                                html  
    probBinom                               html  
    three_mre_cpg                           html  
** building package indices
** installing vignettes
** testing if installed package can be loaded from temporary location
** testing if installed package can be loaded from final location
** testing if installed package keeps a record of temporary installation path
* DONE (SIMD)
Making 'packages.html' ... done