Back to Multiple platform build/check report for BioC 3.15
ABCDEFGHIJKLMNOPQR[S]TUVWXYZ

This page was generated on 2021-11-27 14:05:25 -0500 (Sat, 27 Nov 2021).

BUILD results for SIMD on riesling1

To the developers/maintainers of the SIMD package:
- Please allow up to 24 hours (and sometimes 48 hours) for your latest push to git@git.bioconductor.org:packages/SIMD.git to
reflect on this report. See How and When does the builder pull? When will my changes propagate? here for more information.
- Make sure to use the following settings in order to reproduce any error or warning you see on this page.

raw results

Package 1787/2068HostnameOS / ArchINSTALLBUILDCHECKBUILD BIN
SIMD 1.13.0  (landing page)
Jiadi Zhu
Snapshot Date: 2021-11-26 14:50:14 -0500 (Fri, 26 Nov 2021)
git_url: https://git.bioconductor.org/packages/SIMD
git_branch: master
git_last_commit: 84a8f65
git_last_commit_date: 2021-10-26 12:46:50 -0500 (Tue, 26 Oct 2021)
nebbiolo1Linux (Ubuntu 20.04.3 LTS) / x86_64  OK    OK    OK  UNNEEDED, same version is already published
riesling1Windows Server 2019 Standard / x64  OK    OK    OK    OK  
merida1macOS 10.14.6 Mojave / x86_64  OK    OK    OK    OK  UNNEEDED, same version is already published

Summary

Package: SIMD
Version: 1.13.0
Command: chmod a+r SIMD -R && D:\biocbuild\bbs-3.15-bioc\R\bin\R.exe CMD build --keep-empty-dirs --no-resave-data SIMD
StartedAt: 2021-11-26 23:46:53 -0500 (Fri, 26 Nov 2021)
EndedAt: 2021-11-26 23:51:31 -0500 (Fri, 26 Nov 2021)
EllapsedTime: 278.0 seconds
RetCode: 0
Status:   OK  
PackageFile: SIMD_1.13.0.tar.gz
PackageFileSize: 332.9 KiB

Command output

##############################################################################
##############################################################################
###
### Running command:
###
###   chmod a+r SIMD -R && D:\biocbuild\bbs-3.15-bioc\R\bin\R.exe CMD build --keep-empty-dirs --no-resave-data SIMD
###
##############################################################################
##############################################################################


* checking for file 'SIMD/DESCRIPTION' ... OK
* preparing 'SIMD':
* checking DESCRIPTION meta-information ... OK
* cleaning src
* installing the package to build vignettes
* creating vignettes ... OK
* cleaning src
* checking for LF line-endings in source and make files and shell scripts
* checking for empty or unneeded directories
* building 'SIMD_1.13.0.tar.gz'