Back to Multiple platform build/check report for BioC 3.14
ABCDEFGHIJKLMNOPQR[S]TUVWXYZ

This page was generated on 2021-10-20 12:05:26 -0400 (Wed, 20 Oct 2021).

BUILD BIN results for SIMD on riesling1

To the developers/maintainers of the SIMD package:
- Please allow up to 24 hours (and sometimes 48 hours) for your latest push to git@git.bioconductor.org:packages/SIMD.git to
reflect on this report. See How and When does the builder pull? When will my changes propagate? here for more information.
- Make sure to use the following settings in order to reproduce any error or warning you see on this page.

raw results

Package 1790/2072HostnameOS / ArchINSTALLBUILDCHECKBUILD BIN
SIMD 1.11.0  (landing page)
Jiadi Zhu
Snapshot Date: 2021-10-19 14:50:04 -0400 (Tue, 19 Oct 2021)
git_url: https://git.bioconductor.org/packages/SIMD
git_branch: master
git_last_commit: 3423147
git_last_commit_date: 2021-05-19 12:37:59 -0400 (Wed, 19 May 2021)
nebbiolo2Linux (Ubuntu 20.04.2 LTS) / x86_64  OK    OK    OK  UNNEEDED, same version is already published
riesling1Windows Server 2019 Standard / x64  OK    OK    OK    OK  UNNEEDED, same version is already published
merida1macOS 10.14.6 Mojave / x86_64  OK    OK    OK    NA  

Summary

Package: SIMD
Version: 1.11.0
Command: rm -rf SIMD.buildbin-libdir && mkdir SIMD.buildbin-libdir && D:\biocbuild\bbs-3.14-bioc\R\bin\R.exe CMD INSTALL --merge-multiarch --build --library=SIMD.buildbin-libdir SIMD_1.11.0.tar.gz
StartedAt: 2021-10-20 08:14:30 -0400 (Wed, 20 Oct 2021)
EndedAt: 2021-10-20 08:19:37 -0400 (Wed, 20 Oct 2021)
EllapsedTime: 306.8 seconds
RetCode: 0
Status:   OK  
PackageFile: SIMD_1.11.0.zip
PackageFileSize: 407.4 KiB

Command output

##############################################################################
##############################################################################
###
### Running command:
###
###   rm -rf SIMD.buildbin-libdir && mkdir SIMD.buildbin-libdir && D:\biocbuild\bbs-3.14-bioc\R\bin\R.exe CMD INSTALL --merge-multiarch --build --library=SIMD.buildbin-libdir SIMD_1.11.0.tar.gz
###
##############################################################################
##############################################################################



install for i386

* installing *source* package 'SIMD' ...
** using staged installation
** libs
"C:/rtools40/mingw32/bin/"gcc  -I"D:/biocbuild/bbs-3.14-bioc/R/include" -DNDEBUG     -I"C:/extsoft/include"     -O2 -Wall  -std=gnu99 -mfpmath=sse -msse2 -mstackrealign  -c init.c -o init.o
"C:/rtools40/mingw32/bin/"gcc  -I"D:/biocbuild/bbs-3.14-bioc/R/include" -DNDEBUG     -I"C:/extsoft/include"     -O2 -Wall  -std=gnu99 -mfpmath=sse -msse2 -mstackrealign  -c pvalueclassify.c -o pvalueclassify.o
C:/rtools40/mingw32/bin/gcc -shared -s -static-libgcc -o SIMD.dll tmp.def init.o pvalueclassify.o -LC:/extsoft/lib/i386 -LC:/extsoft/lib -LD:/biocbuild/bbs-3.14-bioc/R/bin/i386 -lR
installing to D:/biocbuild/bbs-3.14-bioc/meat/SIMD.buildbin-libdir/00LOCK-SIMD/00new/SIMD/libs/i386
** R
** data
*** moving datasets to lazyload DB
** inst
** byte-compile and prepare package for lazy loading
** help
*** installing help indices
  converting help for package 'SIMD'
    finding HTML links ... done
    EM2_H1ESB1_MeDIP_sigleCpG               html  
    EM2_H1ESB2_MeDIP_sigleCpG               html  
    EM_H1ESB1_MeDIP_sigleCpG                html  
    EMalgorithm                             html  
    EMtest                                  html  
    H1ESB1_MRE_sigleCpG                     html  
    H1ESB2_MRE_sigleCpG                     html  
    SIMD-package                            html  
    all_CpGsite_bin_chr18                   html  
    classifypvalue                          html  
    emalgth                                 html  
    emalgth1                                html  
    probBinom                               html  
    three_mre_cpg                           html  
** building package indices
** installing vignettes
** testing if installed package can be loaded from temporary location
** testing if installed package can be loaded from final location
** testing if installed package keeps a record of temporary installation path

install for x64

* installing *source* package 'SIMD' ...
** libs
"C:/rtools40/mingw64/bin/"gcc  -I"D:/biocbuild/bbs-3.14-bioc/R/include" -DNDEBUG     -I"C:/extsoft/include"     -O2 -Wall  -std=gnu99 -mfpmath=sse -msse2 -mstackrealign  -c init.c -o init.o
"C:/rtools40/mingw64/bin/"gcc  -I"D:/biocbuild/bbs-3.14-bioc/R/include" -DNDEBUG     -I"C:/extsoft/include"     -O2 -Wall  -std=gnu99 -mfpmath=sse -msse2 -mstackrealign  -c pvalueclassify.c -o pvalueclassify.o
C:/rtools40/mingw64/bin/gcc -shared -s -static-libgcc -o SIMD.dll tmp.def init.o pvalueclassify.o -LC:/extsoft/lib/x64 -LC:/extsoft/lib -LD:/biocbuild/bbs-3.14-bioc/R/bin/x64 -lR
installing to D:/biocbuild/bbs-3.14-bioc/meat/SIMD.buildbin-libdir/SIMD/libs/x64
** testing if installed package can be loaded
* MD5 sums
packaged installation of 'SIMD' as SIMD_1.11.0.zip
* DONE (SIMD)