Name | Last modified | Size | Description | |
---|---|---|---|---|
Parent Directory | - | |||
buildsrc-out.txt | 30-Apr-2024 00:41 | 835 | ||
buildsrc-summary.dcf | 30-Apr-2024 00:41 | 419 | ||
checksrc-out.txt | 30-Apr-2024 00:41 | 4.0K | ||
checksrc-summary.dcf | 30-Apr-2024 00:41 | 438 | ||
install-out.txt | 30-Apr-2024 00:41 | 1.6K | ||
install-summary.dcf | 30-Apr-2024 00:41 | 263 | ||