Index of /checkResults/devel/bioc-LATEST/SIMAT/raw-results

[ICO]NameLast modifiedSizeDescription

[DIR]Parent Directory  -  
[DIR]nebbiolo2/17-May-2022 00:05 -  
[DIR]palomino4/17-May-2022 00:07 -  
[   ]info.dcf17-May-2022 00:08 264  
[DIR]lconway/17-May-2022 00:08 -