Index of /checkResults/devel/bioc-LATEST/SIMAT/raw-results

[ICO]NameLast modifiedSizeDescription

[DIR]Parent Directory  -  
[   ]info.dcf02-Dec-2022 01:10 264  
[DIR]merida1/02-Dec-2022 01:10 -  
[DIR]nebbiolo1/02-Dec-2022 01:07 -  
[DIR]palomino3/02-Dec-2022 01:09 -