Back to Multiple platform build/check report for BioC 3.17
ABCDEFGHIJKLMNOPQR[S]TUVWXYZ

This page was generated on 2022-12-06 11:06:41 -0500 (Tue, 06 Dec 2022).

HostnameOSArch (*)R versionInstalled pkgs
nebbiolo1Linux (Ubuntu 22.04.1 LTS)x86_64R Under development (unstable) (2022-11-30 r83393) -- "Unsuffered Consequences" 4277
palomino3Windows Server 2022 Datacenterx64R Under development (unstable) (2022-11-30 r83393 ucrt) -- "Unsuffered Consequences" 4193
merida1macOS 10.14.6 Mojavex86_64R Under development (unstable) (2022-11-30 r83393) -- "Unsuffered Consequences" 4236
Click on any hostname to see more info about the system (e.g. compilers)      (*) as reported by 'uname -p', except on Windows and Mac OS X

INSTALL results for SIMAT on nebbiolo1


To the developers/maintainers of the SIMAT package:
- Please allow up to 24 hours (and sometimes 48 hours) for your latest push to git@git.bioconductor.org:packages/SIMAT.git to
reflect on this report. See How and When does the builder pull? When will my changes propagate? for more information.
- Make sure to use the following settings in order to reproduce any error or warning you see on this page.

raw results

Package 1855/2155HostnameOS / ArchINSTALLBUILDCHECKBUILD BIN
SIMAT 1.31.0  (landing page)
M. R. Nezami Ranjbar
Snapshot Date: 2022-12-05 14:00:11 -0500 (Mon, 05 Dec 2022)
git_url: https://git.bioconductor.org/packages/SIMAT
git_branch: master
git_last_commit: 9be08e0
git_last_commit_date: 2022-11-01 11:11:17 -0500 (Tue, 01 Nov 2022)
nebbiolo1Linux (Ubuntu 22.04.1 LTS) / x86_64  OK    OK    OK  UNNEEDED, same version is already published
palomino3Windows Server 2022 Datacenter / x64  OK    OK    OK    OK  UNNEEDED, same version is already published
merida1macOS 10.14.6 Mojave / x86_64  OK    OK    OK    OK  UNNEEDED, same version is already published

Summary

Package: SIMAT
Version: 1.31.0
Command: /home/biocbuild/bbs-3.17-bioc/R/bin/R CMD INSTALL SIMAT
StartedAt: 2022-12-05 15:12:50 -0500 (Mon, 05 Dec 2022)
EndedAt: 2022-12-05 15:12:57 -0500 (Mon, 05 Dec 2022)
EllapsedTime: 7.0 seconds
RetCode: 0
Status:   OK  

Command output

##############################################################################
##############################################################################
###
### Running command:
###
###   /home/biocbuild/bbs-3.17-bioc/R/bin/R CMD INSTALL SIMAT
###
##############################################################################
##############################################################################


* installing to library ‘/home/biocbuild/bbs-3.17-bioc/R/library’
* installing *source* package ‘SIMAT’ ...
** using staged installation
** R
** data
** inst
** byte-compile and prepare package for lazy loading
** help
*** installing help indices
** building package indices
** installing vignettes
** testing if installed package can be loaded from temporary location
** testing if installed package can be loaded from final location
** testing if installed package keeps a record of temporary installation path
* DONE (SIMAT)