Index of /checkResults/devel/bioc-LATEST/SICtools/raw-results
Name
Last modified
Size
Description
Parent Directory
-
info.dcf
21-May-2022 00:08
272
lconway/
21-May-2022 00:08
-
nebbiolo2/
21-May-2022 00:05
-