Back to Multiple platform build/check report for BioC 3.15
ABCDEFGHIJKLMNOPQR[S]TUVWXYZ

This page was generated on 2022-01-24 11:08:25 -0500 (Mon, 24 Jan 2022).

HostnameOSArch (*)R versionInstalled pkgs
nebbiolo1Linux (Ubuntu 20.04.4 LTS)x86_64R Under development (unstable) (2022-01-05 r81451) -- "Unsuffered Consequences" 4163
riesling1Windows Server 2019 Standardx64R Under development (unstable) (2021-11-21 r81221) -- "Unsuffered Consequences" 4058
palomino3Windows Server 2022 Datacenterx64R Under development (unstable) (2021-12-21 r81400 ucrt) -- "Unsuffered Consequences" 4000
merida1macOS 10.14.6 Mojavex86_64R Under development (unstable) (2022-01-05 r81451) -- "Unsuffered Consequences" 4117
Click on any hostname to see more info about the system (e.g. compilers)      (*) as reported by 'uname -p', except on Windows and Mac OS X

INSTALL results for SGSeq on riesling1


To the developers/maintainers of the SGSeq package:
- Please allow up to 24 hours (and sometimes 48 hours) for your latest push to git@git.bioconductor.org:packages/SGSeq.git to
reflect on this report. See How and When does the builder pull? When will my changes propagate? here for more information.
- Make sure to use the following settings in order to reproduce any error or warning you see on this page.

raw results

Package 1774/2075HostnameOS / ArchINSTALLBUILDCHECKBUILD BIN
SGSeq 1.29.0  (landing page)
Leonard Goldstein
Snapshot Date: 2022-01-23 13:55:15 -0500 (Sun, 23 Jan 2022)
git_url: https://git.bioconductor.org/packages/SGSeq
git_branch: master
git_last_commit: f79a2e3
git_last_commit_date: 2021-10-26 12:17:06 -0500 (Tue, 26 Oct 2021)
nebbiolo1Linux (Ubuntu 20.04.4 LTS) / x86_64  OK    OK    OK  UNNEEDED, same version is already published
riesling1Windows Server 2019 Standard / x64  OK    OK    OK    OK  
palomino3Windows Server 2022 Datacenter / x64  OK    OK    OK    OK  NO, package depends on 'IRanges' which is not available
merida1macOS 10.14.6 Mojave / x86_64  OK    OK    OK    OK  UNNEEDED, same version is already published

Summary

Package: SGSeq
Version: 1.29.0
Command: D:\biocbuild\bbs-3.15-bioc\R\bin\R.exe CMD INSTALL SGSeq
StartedAt: 2022-01-23 16:02:22 -0500 (Sun, 23 Jan 2022)
EndedAt: 2022-01-23 16:03:42 -0500 (Sun, 23 Jan 2022)
EllapsedTime: 79.7 seconds
RetCode: 0
Status:   OK  

Command output

##############################################################################
##############################################################################
###
### Running command:
###
###   D:\biocbuild\bbs-3.15-bioc\R\bin\R.exe CMD INSTALL SGSeq
###
##############################################################################
##############################################################################


* installing to library 'D:/biocbuild/bbs-3.15-bioc/R/library'
* installing *source* package 'SGSeq' ...
** using staged installation
** R
** data
*** moving datasets to lazyload DB
** inst
** byte-compile and prepare package for lazy loading
** help
*** installing help indices
  converting help for package 'SGSeq'
    finding HTML links ... done
    SGFeatureCounts                         html  
    SGFeatures                              html  
    SGSegments                              html  
    SGVariantCounts                         html  
    SGVariants                              html  
    TxFeatures                              html  
    analyzeFeatures                         html  
    analyzeVariants                         html  
    annotate                                html  
    annotateSGVariants                      html  
    assays                                  html  
    convertToSGFeatures                     html  
    convertToTxFeatures                     html  
    exonCompatible                          html  
    exportFeatures                          html  
    filterFeatures                          html  
    findOverlapsRanges                      html  
    findSGVariants                          html  
    getBamInfo                              html  
    getSGFeatureCounts                      html  
    getSGFeatureCountsPerSample             html  
    getSGVariantCounts                      html  
    gr                                      html  
    importTranscripts                       html  
    junctionCompatible                      html  
    makeSGFeatureCounts                     html  
    makeVariantNames                        html  
    mergeTxFeatures                         html  
    plotCoverage                            html  
    plotFeatures                            html  
    plotSpliceGraph                         html  
    plotVariants                            html  
    predictCandidatesInternal               html  
    predictCandidatesTerminal               html  
    predictExonsInternal                    html  
    predictExonsTerminal                    html  
    predictJunctions                        html  
    predictSpliced                          html  
    predictTxFeatures                       html  
    predictTxFeaturesPerSample              html  
    predictTxFeaturesPerStrand              html  
    predictVariantEffects                   html  
    processTerminalExons                    html  
    removeExonsIsolated                     html  
    sgf_ann                                 html  
    sgf_pred                                html  
    sgfc_ann                                html  
    sgfc_pred                               html  
    sgv_ann                                 html  
    sgv_pred                                html  
    sgvc_ann                                html  
    sgvc_ann_from_bam                       html  
    sgvc_pred                               html  
    sgvc_pred_from_bam                      html  
    si                                      html  
    slots                                   html  
    splicesiteOverlap                       html  
    tx                                      html  
    txf_ann                                 html  
    txf_pred                                html  
    updateObject                            html  
** building package indices
** installing vignettes
** testing if installed package can be loaded from temporary location
** testing if installed package can be loaded from final location
** testing if installed package keeps a record of temporary installation path
* DONE (SGSeq)
Making 'packages.html' ... done