Name | Last modified | Size | Description | |
---|---|---|---|---|
Parent Directory | - | |||
buildsrc-out.txt | 09-Jul-2024 00:45 | 786 | ||
buildsrc-summary.dcf | 09-Jul-2024 00:45 | 400 | ||
checksrc-out.txt | 09-Jul-2024 00:45 | 5.3K | ||
checksrc-summary.dcf | 09-Jul-2024 00:45 | 397 | ||
install-out.txt | 07-Jul-2024 00:45 | 971 | ||
install-summary.dcf | 07-Jul-2024 00:45 | 243 | ||