Index of /checkResults/devel/bioc-LATEST/SGSeq/raw-results
Name
Last modified
Size
Description
Parent Directory
-
lconway/
20-May-2022 00:08
-
nebbiolo2/
20-May-2022 00:05
-
palomino4/
20-May-2022 00:07
-
info.dcf
20-May-2022 00:08
267