Back to Multiple platform build/check report for BioC 3.14
ABCDEFGHIJKLMNOPQR[S]TUVWXYZ

This page was generated on 2021-10-23 14:06:45 -0400 (Sat, 23 Oct 2021).

BUILD BIN results for SEtools on riesling1

To the developers/maintainers of the SEtools package:
- Please allow up to 24 hours (and sometimes 48 hours) for your latest push to git@git.bioconductor.org:packages/SEtools.git to
reflect on this report. See How and When does the builder pull? When will my changes propagate? here for more information.
- Make sure to use the following settings in order to reproduce any error or warning you see on this page.

raw results

Package 1776/2083HostnameOS / ArchINSTALLBUILDCHECKBUILD BIN
SEtools 1.7.0  (landing page)
Pierre-Luc Germain
Snapshot Date: 2021-10-22 14:50:11 -0400 (Fri, 22 Oct 2021)
git_url: https://git.bioconductor.org/packages/SEtools
git_branch: master
git_last_commit: cd35cc2
git_last_commit_date: 2021-05-19 12:46:08 -0400 (Wed, 19 May 2021)
nebbiolo2Linux (Ubuntu 20.04.2 LTS) / x86_64  OK    OK    WARNINGS  UNNEEDED, same version is already published
riesling1Windows Server 2019 Standard / x64  OK    OK    WARNINGS    OK  UNNEEDED, same version is already published
merida1macOS 10.14.6 Mojave / x86_64  OK    OK    WARNINGS    OK  UNNEEDED, same version is already published

Summary

Package: SEtools
Version: 1.7.0
Command: rm -rf SEtools.buildbin-libdir && mkdir SEtools.buildbin-libdir && D:\biocbuild\bbs-3.14-bioc\R\bin\R.exe CMD INSTALL --merge-multiarch --build --library=SEtools.buildbin-libdir SEtools_1.7.0.tar.gz
StartedAt: 2021-10-23 12:50:26 -0400 (Sat, 23 Oct 2021)
EndedAt: 2021-10-23 12:54:25 -0400 (Sat, 23 Oct 2021)
EllapsedTime: 239.1 seconds
RetCode: 0
Status:   OK  
PackageFile: SEtools_1.7.0.zip
PackageFileSize: 596.4 KiB

Command output

##############################################################################
##############################################################################
###
### Running command:
###
###   rm -rf SEtools.buildbin-libdir && mkdir SEtools.buildbin-libdir && D:\biocbuild\bbs-3.14-bioc\R\bin\R.exe CMD INSTALL --merge-multiarch --build --library=SEtools.buildbin-libdir SEtools_1.7.0.tar.gz
###
##############################################################################
##############################################################################



install for i386

* installing *source* package 'SEtools' ...
** using staged installation
** R
** data
** inst
** byte-compile and prepare package for lazy loading
** help
*** installing help indices
  converting help for package 'SEtools'
    finding HTML links ... done
    SE-heatmap                              html  
    aggSE                                   html  
    castSE                                  html  
    crossHm                                 html  
    data                                    html  
    flattenPB                               html  
    getBreaks                               html  
    log2FC                                  html  
    meltSE                                  html  
    mergeSEs                                html  
    qualitativeColors                       html  
    resetAllSEtoolsOptions                  html  
    scale2                                  html  
    se2xls                                  html  
    sortRows                                html  
    svacor                                  html  
    finding level-2 HTML links ... done

** building package indices
** installing vignettes
** testing if installed package can be loaded from temporary location
** testing if installed package can be loaded from final location
** testing if installed package keeps a record of temporary installation path

install for x64

* installing *source* package 'SEtools' ...
** testing if installed package can be loaded
* MD5 sums
packaged installation of 'SEtools' as SEtools_1.7.0.zip
* DONE (SEtools)