Back to Multiple platform build/check report for BioC 3.14
ABCDEFGHIJKLMNOPQR[S]TUVWXYZ

This page was generated on 2021-10-22 12:05:11 -0400 (Fri, 22 Oct 2021).

BUILD results for SEtools on merida1

To the developers/maintainers of the SEtools package:
- Please allow up to 24 hours (and sometimes 48 hours) for your latest push to git@git.bioconductor.org:packages/SEtools.git to
reflect on this report. See How and When does the builder pull? When will my changes propagate? here for more information.
- Make sure to use the following settings in order to reproduce any error or warning you see on this page.

raw results

Package 1769/2075HostnameOS / ArchINSTALLBUILDCHECKBUILD BIN
SEtools 1.7.0  (landing page)
Pierre-Luc Germain
Snapshot Date: 2021-10-21 14:50:08 -0400 (Thu, 21 Oct 2021)
git_url: https://git.bioconductor.org/packages/SEtools
git_branch: master
git_last_commit: cd35cc2
git_last_commit_date: 2021-05-19 12:46:08 -0400 (Wed, 19 May 2021)
nebbiolo2Linux (Ubuntu 20.04.2 LTS) / x86_64  OK    OK    WARNINGS  UNNEEDED, same version is already published
riesling1Windows Server 2019 Standard / x64  OK    OK    WARNINGS    OK  UNNEEDED, same version is already published
merida1macOS 10.14.6 Mojave / x86_64  OK    OK    WARNINGS    NA  

Summary

Package: SEtools
Version: 1.7.0
Command: /Library/Frameworks/R.framework/Resources/bin/R CMD build --keep-empty-dirs --no-resave-data SEtools
StartedAt: 2021-10-21 23:14:43 -0400 (Thu, 21 Oct 2021)
EndedAt: 2021-10-21 23:16:21 -0400 (Thu, 21 Oct 2021)
EllapsedTime: 98.4 seconds
RetCode: 0
Status:   OK  
PackageFile: SEtools_1.7.0.tar.gz
PackageFileSize: 952.5 KiB

Command output

##############################################################################
##############################################################################
###
### Running command:
###
###   /Library/Frameworks/R.framework/Resources/bin/R CMD build --keep-empty-dirs --no-resave-data SEtools
###
##############################################################################
##############################################################################


* checking for file ‘SEtools/DESCRIPTION’ ... OK
* preparing ‘SEtools’:
* checking DESCRIPTION meta-information ... OK
* installing the package to build vignettes
* creating vignettes ... OK
* checking for LF line-endings in source and make files and shell scripts
* checking for empty or unneeded directories
* looking to see if a ‘data/datalist’ file should be added
* building ‘SEtools_1.7.0.tar.gz’