![]() | Name | Last modified | Size | Description |
---|---|---|---|---|
![]() | Parent Directory | - | ||
![]() | buildsrc-out.txt | 03-Oct-2023 00:36 | 1.0K | |
![]() | buildsrc-summary.dcf | 03-Oct-2023 00:36 | 413 | |
![]() | checksrc-out.txt | 03-Oct-2023 00:36 | 4.2K | |
![]() | checksrc-summary.dcf | 03-Oct-2023 00:36 | 413 | |
![]() | install-out.txt | 03-Oct-2023 00:36 | 1.1K | |
![]() | install-summary.dcf | 03-Oct-2023 00:36 | 256 | |