![]() | Name | Last modified | Size | Description |
---|---|---|---|---|
![]() | Parent Directory | - | ||
![]() | buildsrc-out.txt | 24-Sep-2023 00:40 | 1.0K | |
![]() | buildsrc-summary.dcf | 24-Sep-2023 00:40 | 407 | |
![]() | checksrc-out.txt | 24-Sep-2023 00:40 | 4.2K | |
![]() | checksrc-summary.dcf | 24-Sep-2023 00:40 | 401 | |
![]() | install-out.txt | 24-Sep-2023 00:40 | 1.1K | |
![]() | install-summary.dcf | 24-Sep-2023 00:40 | 251 | |