Index of /checkResults/devel/bioc-LATEST/SEPIRA/raw-results
Name
Last modified
Size
Description
Parent Directory
-
info.dcf
24-Sep-2023 00:40
263
kunpeng2/
24-Sep-2023 00:40
-
lconway/
24-Sep-2023 00:39
-
nebbiolo2/
24-Sep-2023 00:36
-
palomino4/
24-Sep-2023 00:38
-