Back to Multiple platform build/check report for BioC 3.13
ABCDEFGHIJKLMNOPQR[S]TUVWXYZ

BUILD BIN report for SCnorm on riesling1

This page was generated on 2021-01-14 12:59:21 -0500 (Thu, 14 Jan 2021).

TO THE DEVELOPERS/MAINTAINERS OF THE SCnorm PACKAGE: Please make sure to use the following settings in order to reproduce any error or warning you see on this page.
Package 1612/1931HostnameOS / ArchINSTALLBUILDCHECKBUILD BIN
SCnorm 1.13.0
Rhonda Bacher
Snapshot Date: 2021-01-13 14:40:33 -0500 (Wed, 13 Jan 2021)
URL: https://git.bioconductor.org/packages/SCnorm
Branch: master
Last Commit: a0c3ff9
Last Changed Date: 2020-10-27 11:26:06 -0500 (Tue, 27 Oct 2020)
malbec2 Linux (Ubuntu 20.04.1 LTS) / x86_64  OK  OK  OK UNNEEDED, same version exists in internal repository
tokay2 Windows Server 2012 R2 Standard / x64  OK  OK  OK  NA 
riesling1 Windows Server 2019 Standard / x64  OK  OK  OK [ OK ]
machv2 macOS 10.14.6 Mojave / x86_64  OK  OK  OK  OK UNNEEDED, same version exists in internal repository

Summary

Package: SCnorm
Version: 1.13.0
Command: rm -rf SCnorm.buildbin-libdir && mkdir SCnorm.buildbin-libdir && D:\biocbuild\bbs-3.13-bioc\R\bin\R.exe CMD INSTALL --merge-multiarch --build --library=SCnorm.buildbin-libdir SCnorm_1.13.0.tar.gz
StartedAt: 2021-01-13 23:53:26 -0500 (Wed, 13 Jan 2021)
EndedAt: 2021-01-13 23:54:46 -0500 (Wed, 13 Jan 2021)
EllapsedTime: 80.5 seconds
RetCode: 0
Status:  OK  
PackageFile: SCnorm_1.13.0.zip
PackageFileSize: 3.064 MiB

Command output

##############################################################################
##############################################################################
###
### Running command:
###
###   rm -rf SCnorm.buildbin-libdir && mkdir SCnorm.buildbin-libdir && D:\biocbuild\bbs-3.13-bioc\R\bin\R.exe CMD INSTALL --merge-multiarch --build --library=SCnorm.buildbin-libdir SCnorm_1.13.0.tar.gz
###
##############################################################################
##############################################################################



install for i386

* installing *source* package 'SCnorm' ...
** using staged installation
** R
** data
*** moving datasets to lazyload DB
** inst
** byte-compile and prepare package for lazy loading
** help
*** installing help indices
  converting help for package 'SCnorm'
    finding HTML links ... done
    ExampleSimSCData                        html  
REDIRECT:topic	 ExampleSimSCData -> ExampleSimSCData.html [ SUCCESS ]
    GetTD                                   html  
REDIRECT:topic	 GetTD -> GetTD.html [ SUCCESS ]
    SCnorm                                  html  
REDIRECT:topic	 SCnorm -> SCnorm.html [ SUCCESS ]
    SCnormFit                               html  
REDIRECT:topic	 SCnormFit -> SCnormFit.html [ SUCCESS ]
    correctWithin                           html  
REDIRECT:topic	 correctWithin -> correctWithin.html [ SUCCESS ]
    evaluateK                               html  
REDIRECT:topic	 evaluateK -> evaluateK.html [ SUCCESS ]
    generateEvalPlot                        html  
REDIRECT:topic	 generateEvalPlot -> generateEvalPlot.html [ SUCCESS ]
    getCounts                               html  
REDIRECT:topic	 getCounts -> getCounts.html [ SUCCESS ]
    getDens                                 html  
REDIRECT:topic	 getDens -> getDens.html [ SUCCESS ]
    getSlopes                               html  
REDIRECT:topic	 getSlopes -> getSlopes.html [ SUCCESS ]
    normWrapper                             html  
REDIRECT:topic	 normWrapper -> normWrapper.html [ SUCCESS ]
    plotCountDepth                          html  
REDIRECT:topic	 plotCountDepth -> plotCountDepth.html [ SUCCESS ]
    plotWithinFactor                        html  
REDIRECT:topic	 plotWithinFactor -> plotWithinFactor.html [ SUCCESS ]
    quickReg                                html  
REDIRECT:topic	 quickReg -> quickReg.html [ SUCCESS ]
    redoBox                                 html  
REDIRECT:topic	 redoBox -> redoBox.html [ SUCCESS ]
    results                                 html  
REDIRECT:topic	 results -> results.html [ SUCCESS ]
    scaleNormMultCont                       html  
REDIRECT:topic	 scaleNormMultCont -> scaleNormMultCont.html [ SUCCESS ]
    splitGroups                             html  
REDIRECT:topic	 splitGroups -> splitGroups.html [ SUCCESS ]
** building package indices
** installing vignettes
** testing if installed package can be loaded from temporary location
** testing if installed package can be loaded from final location
** testing if installed package keeps a record of temporary installation path

install for x64

* installing *source* package 'SCnorm' ...
** testing if installed package can be loaded
* MD5 sums
packaged installation of 'SCnorm' as SCnorm_1.13.0.zip
* DONE (SCnorm)