Back to Multiple platform build/check report for BioC 3.13
ABCDEFGHIJKLMNOPQR[S]TUVWXYZ

INSTALL report for SCnorm on malbec2

This page was generated on 2021-02-23 13:39:07 -0500 (Tue, 23 Feb 2021).

To the developers/maintainers of the SCnorm package:
Please make sure to use the following settings in order to reproduce any error or warning you see on this page.
Package 1622/1943HostnameOS / ArchINSTALLBUILDCHECKBUILD BIN
SCnorm 1.13.0
Rhonda Bacher
Snapshot Date: 2021-02-22 14:55:26 -0500 (Mon, 22 Feb 2021)
URL: https://git.bioconductor.org/packages/SCnorm
Branch: master
Last Commit: a0c3ff9
Last Changed Date: 2020-10-27 11:26:06 -0500 (Tue, 27 Oct 2020)
malbec2Linux (Ubuntu 20.04.2 LTS) / x86_64  OK    OK    OK  UNNEEDED, same version exists in internal repository
tokay2Windows Server 2012 R2 Standard / x64  OK    OK    OK    OK  UNNEEDED, same version exists in internal repository
machv2macOS 10.14.6 Mojave / x86_64  OK    OK    OK    OK  UNNEEDED, same version exists in internal repository

Summary

Package: SCnorm
Version: 1.13.0
Command: /home/biocbuild/bbs-3.13-bioc/R/bin/R CMD INSTALL SCnorm
StartedAt: 2021-02-22 16:33:25 -0500 (Mon, 22 Feb 2021)
EndedAt: 2021-02-22 16:33:51 -0500 (Mon, 22 Feb 2021)
EllapsedTime: 25.5 seconds
RetCode: 0
Status:   OK  

Command output

##############################################################################
##############################################################################
###
### Running command:
###
###   /home/biocbuild/bbs-3.13-bioc/R/bin/R CMD INSTALL SCnorm
###
##############################################################################
##############################################################################


* installing to library ‘/home/biocbuild/bbs-3.13-bioc/R/library’
* installing *source* package ‘SCnorm’ ...
** using staged installation
** R
** data
*** moving datasets to lazyload DB
** inst
** byte-compile and prepare package for lazy loading
** help
*** installing help indices
** building package indices
** installing vignettes
** testing if installed package can be loaded from temporary location
** testing if installed package can be loaded from final location
** testing if installed package keeps a record of temporary installation path
* DONE (SCnorm)