Back to Multiple platform build/check report for BioC 3.13
ABCDEFGHIJKLMNOPQR[S]TUVWXYZ

CHECK report for SCnorm on malbec2

This page was generated on 2021-02-23 13:39:07 -0500 (Tue, 23 Feb 2021).

To the developers/maintainers of the SCnorm package:
Please make sure to use the following settings in order to reproduce any error or warning you see on this page.
Package 1622/1943HostnameOS / ArchINSTALLBUILDCHECKBUILD BIN
SCnorm 1.13.0
Rhonda Bacher
Snapshot Date: 2021-02-22 14:55:26 -0500 (Mon, 22 Feb 2021)
URL: https://git.bioconductor.org/packages/SCnorm
Branch: master
Last Commit: a0c3ff9
Last Changed Date: 2020-10-27 11:26:06 -0500 (Tue, 27 Oct 2020)
malbec2Linux (Ubuntu 20.04.2 LTS) / x86_64  OK    OK    OK  UNNEEDED, same version exists in internal repository
tokay2Windows Server 2012 R2 Standard / x64  OK    OK    OK    OK  UNNEEDED, same version exists in internal repository
machv2macOS 10.14.6 Mojave / x86_64  OK    OK    OK    OK  UNNEEDED, same version exists in internal repository

Summary

Package: SCnorm
Version: 1.13.0
Command: /home/biocbuild/bbs-3.13-bioc/R/bin/R CMD check --install=check:SCnorm.install-out.txt --library=/home/biocbuild/bbs-3.13-bioc/R/library --no-vignettes --timings SCnorm_1.13.0.tar.gz
StartedAt: 2021-02-23 05:34:59 -0500 (Tue, 23 Feb 2021)
EndedAt: 2021-02-23 05:38:48 -0500 (Tue, 23 Feb 2021)
EllapsedTime: 229.5 seconds
RetCode: 0
Status:   OK  
CheckDir: SCnorm.Rcheck
Warnings: 0

Command output

##############################################################################
##############################################################################
###
### Running command:
###
###   /home/biocbuild/bbs-3.13-bioc/R/bin/R CMD check --install=check:SCnorm.install-out.txt --library=/home/biocbuild/bbs-3.13-bioc/R/library --no-vignettes --timings SCnorm_1.13.0.tar.gz
###
##############################################################################
##############################################################################


* using log directory ‘/home/biocbuild/bbs-3.13-bioc/meat/SCnorm.Rcheck’
* using R Under development (unstable) (2021-02-10 r79979)
* using platform: x86_64-pc-linux-gnu (64-bit)
* using session charset: UTF-8
* using option ‘--no-vignettes’
* checking for file ‘SCnorm/DESCRIPTION’ ... OK
* this is package ‘SCnorm’ version ‘1.13.0’
* package encoding: UTF-8
* checking package namespace information ... OK
* checking package dependencies ... OK
* checking if this is a source package ... OK
* checking if there is a namespace ... OK
* checking for hidden files and directories ... NOTE
Found the following hidden files and directories:
  .git_fetch_output.txt
  .git_merge_output.txt
These were most likely included in error. See section ‘Package
structure’ in the ‘Writing R Extensions’ manual.
* checking for portable file names ... OK
* checking for sufficient/correct file permissions ... OK
* checking whether package ‘SCnorm’ can be installed ... OK
* checking installed package size ... OK
* checking package directory ... OK
* checking ‘build’ directory ... OK
* checking DESCRIPTION meta-information ... OK
* checking top-level files ... OK
* checking for left-over files ... OK
* checking index information ... OK
* checking package subdirectories ... OK
* checking R files for non-ASCII characters ... OK
* checking R files for syntax errors ... OK
* checking whether the package can be loaded ... OK
* checking whether the package can be loaded with stated dependencies ... OK
* checking whether the package can be unloaded cleanly ... OK
* checking whether the namespace can be loaded with stated dependencies ... OK
* checking whether the namespace can be unloaded cleanly ... OK
* checking dependencies in R code ... OK
* checking S3 generic/method consistency ... OK
* checking replacement functions ... OK
* checking foreign function calls ... OK
* checking R code for possible problems ... OK
* checking Rd files ... OK
* checking Rd metadata ... OK
* checking Rd cross-references ... OK
* checking for missing documentation entries ... OK
* checking for code/documentation mismatches ... OK
* checking Rd \usage sections ... OK
* checking Rd contents ... OK
* checking for unstated dependencies in examples ... OK
* checking contents of ‘data’ directory ... OK
* checking data for non-ASCII characters ... OK
* checking data for ASCII and uncompressed saves ... OK
* checking files in ‘vignettes’ ... OK
* checking examples ... OK
Examples with CPU (user + system) or elapsed time > 5s
                   user system elapsed
getSlopes        56.617  1.571  21.836
plotWithinFactor 19.844  0.478   0.037
* checking for unstated dependencies in vignettes ... OK
* checking package vignettes in ‘inst/doc’ ... OK
* checking running R code from vignettes ... SKIPPED
* checking re-building of vignette outputs ... SKIPPED
* checking PDF version of manual ... OK
* DONE

Status: 1 NOTE
See
  ‘/home/biocbuild/bbs-3.13-bioc/meat/SCnorm.Rcheck/00check.log’
for details.



Installation output

SCnorm.Rcheck/00install.out

##############################################################################
##############################################################################
###
### Running command:
###
###   /home/biocbuild/bbs-3.13-bioc/R/bin/R CMD INSTALL SCnorm
###
##############################################################################
##############################################################################


* installing to library ‘/home/biocbuild/bbs-3.13-bioc/R/library’
* installing *source* package ‘SCnorm’ ...
** using staged installation
** R
** data
*** moving datasets to lazyload DB
** inst
** byte-compile and prepare package for lazy loading
** help
*** installing help indices
** building package indices
** installing vignettes
** testing if installed package can be loaded from temporary location
** testing if installed package can be loaded from final location
** testing if installed package keeps a record of temporary installation path
* DONE (SCnorm)

Tests output


Example timings

SCnorm.Rcheck/SCnorm-Ex.timings

nameusersystemelapsed
ExampleSimSCData0.0030.0000.004
SCnorm0.0010.0000.001
getCounts0.1570.0080.166
getSlopes56.617 1.57121.836
plotCountDepth0.0000.0020.002
plotWithinFactor19.844 0.478 0.037
results0.0010.0000.001