Back to Multiple platform build/check report for BioC 3.13
ABCDEFGHIJKLMNOPQR[S]TUVWXYZ

BUILD report for SCnorm on malbec2

This page was generated on 2021-02-23 13:39:07 -0500 (Tue, 23 Feb 2021).

To the developers/maintainers of the SCnorm package:
Please make sure to use the following settings in order to reproduce any error or warning you see on this page.
Package 1622/1943HostnameOS / ArchINSTALLBUILDCHECKBUILD BIN
SCnorm 1.13.0
Rhonda Bacher
Snapshot Date: 2021-02-22 14:55:26 -0500 (Mon, 22 Feb 2021)
URL: https://git.bioconductor.org/packages/SCnorm
Branch: master
Last Commit: a0c3ff9
Last Changed Date: 2020-10-27 11:26:06 -0500 (Tue, 27 Oct 2020)
malbec2Linux (Ubuntu 20.04.2 LTS) / x86_64  OK    OK    OK  UNNEEDED, same version exists in internal repository
tokay2Windows Server 2012 R2 Standard / x64  OK    OK    OK    OK  UNNEEDED, same version exists in internal repository
machv2macOS 10.14.6 Mojave / x86_64  OK    OK    OK    OK  UNNEEDED, same version exists in internal repository

Summary

Package: SCnorm
Version: 1.13.0
Command: /home/biocbuild/bbs-3.13-bioc/R/bin/R CMD build --keep-empty-dirs --no-resave-data SCnorm
StartedAt: 2021-02-22 21:45:35 -0500 (Mon, 22 Feb 2021)
EndedAt: 2021-02-22 21:49:05 -0500 (Mon, 22 Feb 2021)
EllapsedTime: 210.6 seconds
RetCode: 0
Status:   OK  
PackageFile: SCnorm_1.13.0.tar.gz
PackageFileSize: 2.949 MiB

Command output

##############################################################################
##############################################################################
###
### Running command:
###
###   /home/biocbuild/bbs-3.13-bioc/R/bin/R CMD build --keep-empty-dirs --no-resave-data SCnorm
###
##############################################################################
##############################################################################


* checking for file ‘SCnorm/DESCRIPTION’ ... OK
* preparing ‘SCnorm’:
* checking DESCRIPTION meta-information ... OK
* installing the package to build vignettes
* creating vignettes ... OK
* checking for LF line-endings in source and make files and shell scripts
* checking for empty or unneeded directories
* building ‘SCnorm_1.13.0.tar.gz’