Index of /checkResults/devel/bioc-LATEST/SCFA/raw-results
Name
Last modified
Size
Description
Parent Directory
-
palomino4/
03-May-2024 00:04
-
nebbiolo2/
03-May-2024 00:03
-
merida1/
02-May-2024 00:40
-
info.dcf
03-May-2024 00:02
253