Name | Last modified | Size | Description | |
---|---|---|---|---|
Parent Directory | - | |||
install-summary.dcf | 17-Jul-2024 00:44 | 262 | ||
buildsrc-summary.dcf | 17-Jul-2024 00:44 | 418 | ||
checksrc-summary.dcf | 17-Jul-2024 00:44 | 431 | ||
buildbin-summary.dcf | 17-Jul-2024 00:44 | 511 | ||
buildsrc-out.txt | 17-Jul-2024 00:44 | 804 | ||
install-out.txt | 17-Jul-2024 00:44 | 1.0K | ||
buildbin-out.txt | 17-Jul-2024 00:44 | 1.2K | ||
checksrc-out.txt | 17-Jul-2024 00:44 | 3.3K | ||