Index of /checkResults/devel/bioc-LATEST/SCArray/raw-results/palomino8
Name
Last modified
Size
Description
Parent Directory
-
buildsrc-summary.dcf
28-Jul-2024 00:40
368
buildsrc-out.txt
28-Jul-2024 00:40
1.1K
install-summary.dcf
28-Jul-2024 00:40
268
install-out.txt
28-Jul-2024 00:40
1.9K