Name | Last modified | Size | Description | |
---|---|---|---|---|
Parent Directory | - | |||
install-summary.dcf | 12-Jun-2024 04:41 | 268 | ||
install-out.txt | 12-Jun-2024 04:41 | 1.9K | ||
checksrc-summary.dcf | 12-Jun-2024 04:41 | 447 | ||
checksrc-out.txt | 12-Jun-2024 04:41 | 4.2K | ||
buildsrc-summary.dcf | 12-Jun-2024 04:41 | 453 | ||
buildsrc-out.txt | 12-Jun-2024 04:41 | 871 | ||
buildbin-summary.dcf | 12-Jun-2024 04:41 | 516 | ||
buildbin-out.txt | 12-Jun-2024 04:41 | 2.1K | ||