Name | Last modified | Size | Description | |
---|---|---|---|---|
Parent Directory | - | |||
checksrc-out.txt | 04-Jul-2024 00:42 | 3.7K | ||
checksrc-summary.dcf | 04-Jul-2024 00:42 | 444 | ||
buildbin-out.txt | 04-Jul-2024 00:42 | 4.2K | ||
buildbin-summary.dcf | 04-Jul-2024 00:42 | 529 | ||
install-summary.dcf | 27-Jul-2024 00:41 | 269 | ||
install-out.txt | 27-Jul-2024 00:41 | 2.1K | ||
buildsrc-out.txt | 27-Jul-2024 00:41 | 1.1K | ||
buildsrc-summary.dcf | 27-Jul-2024 00:41 | 343 | ||