Index of /checkResults/devel/bioc-LATEST/SCArray.sat/raw-results/nebbiolo2

[ICO]NameLast modifiedSizeDescription

[DIR]Parent Directory  -  
[   ]install-summary.dcf19-Jul-2024 00:39 266  
[   ]buildsrc-summary.dcf19-Jul-2024 00:39 346  
[   ]checksrc-summary.dcf04-Jul-2024 00:39 428  
[TXT]install-out.txt19-Jul-2024 00:39 964  
[TXT]buildsrc-out.txt19-Jul-2024 00:39 1.0K 
[TXT]checksrc-out.txt04-Jul-2024 00:39 3.5K