Index of /checkResults/devel/bioc-LATEST/SCArray.sat/raw-results/lconway

[ICO]NameLast modifiedSizeDescription

[DIR]Parent Directory  -  
[TXT]buildbin-out.txt04-Jul-2024 00:42 1.2K 
[   ]buildbin-summary.dcf04-Jul-2024 00:42 551  
[TXT]buildsrc-out.txt18-Jul-2024 00:41 1.0K 
[   ]buildsrc-summary.dcf18-Jul-2024 00:41 350  
[TXT]checksrc-out.txt04-Jul-2024 00:42 3.5K 
[   ]checksrc-summary.dcf04-Jul-2024 00:42 458  
[TXT]install-out.txt18-Jul-2024 00:41 1.0K 
[   ]install-summary.dcf18-Jul-2024 00:41 276