Index of /checkResults/devel/bioc-LATEST/SCArray.sat/raw-results/kunpeng2

[ICO]NameLast modifiedSizeDescription

[DIR]Parent Directory  -  
[   ]install-summary.dcf06-Jul-2024 00:45 256  
[   ]buildsrc-summary.dcf09-Jul-2024 00:45 328  
[   ]checksrc-summary.dcf04-Jul-2024 00:45 419  
[TXT]install-out.txt06-Jul-2024 00:45 622  
[TXT]buildsrc-out.txt09-Jul-2024 00:45 1.0K 
[TXT]checksrc-out.txt04-Jul-2024 00:45 3.6K