Index of /checkResults/devel/bioc-LATEST/SCArray.sat/raw-results/kjohnson3

[ICO]NameLast modifiedSizeDescription

[DIR]Parent Directory  -  
[TXT]buildbin-out.txt04-Jul-2024 00:44 1.2K 
[   ]buildbin-summary.dcf04-Jul-2024 00:44 551  
[TXT]buildsrc-out.txt14-Jul-2024 00:44 1.0K 
[   ]buildsrc-summary.dcf14-Jul-2024 00:44 350  
[TXT]checksrc-out.txt04-Jul-2024 00:44 3.5K 
[   ]checksrc-summary.dcf04-Jul-2024 00:44 458  
[TXT]install-out.txt14-Jul-2024 00:44 1.0K 
[   ]install-summary.dcf14-Jul-2024 00:44 276