Back to Multiple platform build/check report for BioC 3.17
ABCDEFGHIJKLMNOPQR[S]TUVWXYZ

This page was generated on 2022-12-06 11:06:37 -0500 (Tue, 06 Dec 2022).

HostnameOSArch (*)R versionInstalled pkgs
nebbiolo1Linux (Ubuntu 22.04.1 LTS)x86_64R Under development (unstable) (2022-11-30 r83393) -- "Unsuffered Consequences" 4277
palomino3Windows Server 2022 Datacenterx64R Under development (unstable) (2022-11-30 r83393 ucrt) -- "Unsuffered Consequences" 4193
merida1macOS 10.14.6 Mojavex86_64R Under development (unstable) (2022-11-30 r83393) -- "Unsuffered Consequences" 4236
Click on any hostname to see more info about the system (e.g. compilers)      (*) as reported by 'uname -p', except on Windows and Mac OS X

INSTALL results for SCATE on nebbiolo1


To the developers/maintainers of the SCATE package:
- Please allow up to 24 hours (and sometimes 48 hours) for your latest push to git@git.bioconductor.org:packages/SCATE.git to
reflect on this report. See How and When does the builder pull? When will my changes propagate? for more information.
- Make sure to use the following settings in order to reproduce any error or warning you see on this page.

raw results

Package 1762/2155HostnameOS / ArchINSTALLBUILDCHECKBUILD BIN
SCATE 1.9.0  (landing page)
Wenpin Hou
Snapshot Date: 2022-12-05 14:00:11 -0500 (Mon, 05 Dec 2022)
git_url: https://git.bioconductor.org/packages/SCATE
git_branch: master
git_last_commit: f493110
git_last_commit_date: 2022-11-01 11:22:41 -0500 (Tue, 01 Nov 2022)
nebbiolo1Linux (Ubuntu 22.04.1 LTS) / x86_64  OK    OK    OK  UNNEEDED, same version is already published
palomino3Windows Server 2022 Datacenter / x64  OK    OK    OK    OK  NO, package depends on 'GenomicAlignments' which is not available
merida1macOS 10.14.6 Mojave / x86_64  OK    TIMEOUT  skippedskipped

Summary

Package: SCATE
Version: 1.9.0
Command: /home/biocbuild/bbs-3.17-bioc/R/bin/R CMD INSTALL SCATE
StartedAt: 2022-12-05 15:41:42 -0500 (Mon, 05 Dec 2022)
EndedAt: 2022-12-05 15:42:21 -0500 (Mon, 05 Dec 2022)
EllapsedTime: 39.4 seconds
RetCode: 0
Status:   OK  

Command output

##############################################################################
##############################################################################
###
### Running command:
###
###   /home/biocbuild/bbs-3.17-bioc/R/bin/R CMD INSTALL SCATE
###
##############################################################################
##############################################################################


* installing to library ‘/home/biocbuild/bbs-3.17-bioc/R/library’
* installing *source* package ‘SCATE’ ...
** using staged installation
** R
** inst
** byte-compile and prepare package for lazy loading
snapshotDate(): 2022-11-29
** help
*** installing help indices
** building package indices
** installing vignettes
** testing if installed package can be loaded from temporary location
snapshotDate(): 2022-11-29
** testing if installed package can be loaded from final location
snapshotDate(): 2022-11-29
** testing if installed package keeps a record of temporary installation path
* DONE (SCATE)