Back to Multiple platform build/check report for BioC 3.15
ABCDEFGHIJKLMNOPQR[S]TUVWXYZ

This page was generated on 2022-01-26 11:08:41 -0500 (Wed, 26 Jan 2022).

HostnameOSArch (*)R versionInstalled pkgs
nebbiolo1Linux (Ubuntu 20.04.4 LTS)x86_64R Under development (unstable) (2022-01-05 r81451) -- "Unsuffered Consequences" 4164
riesling1Windows Server 2019 Standardx64R Under development (unstable) (2021-11-21 r81221) -- "Unsuffered Consequences" 4059
palomino3Windows Server 2022 Datacenterx64R Under development (unstable) (2021-12-21 r81400 ucrt) -- "Unsuffered Consequences" 4001
merida1macOS 10.14.6 Mojavex86_64R Under development (unstable) (2022-01-05 r81451) -- "Unsuffered Consequences" 4118
Click on any hostname to see more info about the system (e.g. compilers)      (*) as reported by 'uname -p', except on Windows and Mac OS X

BUILD BIN results for SCANVIS on riesling1


To the developers/maintainers of the SCANVIS package:
- Please allow up to 24 hours (and sometimes 48 hours) for your latest push to git@git.bioconductor.org:packages/SCANVIS.git to
reflect on this report. See How and When does the builder pull? When will my changes propagate? here for more information.
- Make sure to use the following settings in order to reproduce any error or warning you see on this page.

raw results

Package 1702/2075HostnameOS / ArchINSTALLBUILDCHECKBUILD BIN
SCANVIS 1.9.0  (landing page)
Phaedra Agius
Snapshot Date: 2022-01-25 13:55:17 -0500 (Tue, 25 Jan 2022)
git_url: https://git.bioconductor.org/packages/SCANVIS
git_branch: master
git_last_commit: 0f1895c
git_last_commit_date: 2021-10-26 12:53:04 -0500 (Tue, 26 Oct 2021)
nebbiolo1Linux (Ubuntu 20.04.4 LTS) / x86_64  OK    OK    OK  UNNEEDED, same version is already published
riesling1Windows Server 2019 Standard / x64  OK    OK    ERROR    OK  
palomino3Windows Server 2022 Datacenter / x64  OK    OK    OK    OK  NO, package depends on 'IRanges' which is not available
merida1macOS 10.14.6 Mojave / x86_64  OK    OK    OK    OK  UNNEEDED, same version is already published

Summary

Package: SCANVIS
Version: 1.9.0
Command: rm -rf SCANVIS.buildbin-libdir && mkdir SCANVIS.buildbin-libdir && D:\biocbuild\bbs-3.15-bioc\R\bin\R.exe CMD INSTALL --build --library=SCANVIS.buildbin-libdir SCANVIS_1.9.0.tar.gz
StartedAt: 2022-01-25 21:20:43 -0500 (Tue, 25 Jan 2022)
EndedAt: 2022-01-25 21:21:45 -0500 (Tue, 25 Jan 2022)
EllapsedTime: 62.6 seconds
RetCode: 0
Status:   OK  
PackageFile: SCANVIS_1.9.0.zip
PackageFileSize: 452.5 KiB

Command output

##############################################################################
##############################################################################
###
### Running command:
###
###   rm -rf SCANVIS.buildbin-libdir && mkdir SCANVIS.buildbin-libdir && D:\biocbuild\bbs-3.15-bioc\R\bin\R.exe CMD INSTALL --build --library=SCANVIS.buildbin-libdir SCANVIS_1.9.0.tar.gz
###
##############################################################################
##############################################################################


* installing *source* package 'SCANVIS' ...
** using staged installation
** R
** data
** inst
** byte-compile and prepare package for lazy loading
** help
*** installing help indices
  converting help for package 'SCANVIS'
    finding HTML links ... done
    GBM                                     html  
    IR2Mat                                  html  
    LUAD                                    html  
    LUSC                                    html  
    SCANVIS-package                         html  
    SCANVISannotation                       html  
    SCANVISexamples                         html  
    SCANVISlinkvar                          html  
    SCANVISmerge                            html  
    SCANVISreadSTAR                         html  
    SCANVISscan                             html  
    SCANVISvisual                           html  
    gbm3                                    html  
    gbm3.vcf                                html  
    gen19                                   html  
    gene2roi                                html  
    ls_url                                  html  
** building package indices
** installing vignettes
** testing if installed package can be loaded from temporary location
** testing if installed package can be loaded from final location
** testing if installed package keeps a record of temporary installation path
* MD5 sums
packaged installation of 'SCANVIS' as SCANVIS_1.9.0.zip
* DONE (SCANVIS)