Name | Last modified | Size | Description | |
---|---|---|---|---|
Parent Directory | - | |||
install-summary.dcf | 28-Jul-2024 00:40 | 268 | ||
install-out.txt | 28-Jul-2024 00:40 | 962 | ||
checksrc-summary.dcf | 28-Jul-2024 00:40 | 447 | ||
checksrc-out.txt | 28-Jul-2024 00:40 | 5.0K | ||
buildsrc-summary.dcf | 28-Jul-2024 00:40 | 452 | ||
buildsrc-out.txt | 28-Jul-2024 00:40 | 932 | ||
buildbin-summary.dcf | 28-Jul-2024 00:40 | 515 | ||
buildbin-out.txt | 28-Jul-2024 00:40 | 1.1K | ||