Name | Last modified | Size | Description | |
---|---|---|---|---|
Parent Directory | - | |||
install-summary.dcf | 12-Jun-2024 04:41 | 268 | ||
checksrc-summary.dcf | 12-Jun-2024 04:41 | 447 | ||
buildsrc-summary.dcf | 12-Jun-2024 04:41 | 452 | ||
buildbin-summary.dcf | 12-Jun-2024 04:41 | 515 | ||
buildsrc-out.txt | 12-Jun-2024 04:41 | 932 | ||
install-out.txt | 12-Jun-2024 04:41 | 962 | ||
buildbin-out.txt | 12-Jun-2024 04:41 | 1.1K | ||
checksrc-out.txt | 12-Jun-2024 04:41 | 5.0K | ||