Name | Last modified | Size | Description | |
---|---|---|---|---|
Parent Directory | - | |||
buildsrc-out.txt | 28-Jul-2024 00:39 | 925 | ||
buildsrc-summary.dcf | 28-Jul-2024 00:39 | 423 | ||
checksrc-out.txt | 28-Jul-2024 00:39 | 5.0K | ||
checksrc-summary.dcf | 28-Jul-2024 00:39 | 414 | ||
install-out.txt | 28-Jul-2024 00:39 | 952 | ||
install-summary.dcf | 28-Jul-2024 00:39 | 259 | ||