Name | Last modified | Size | Description | |
---|---|---|---|---|
Parent Directory | - | |||
checksrc-summary.dcf | 09-Jul-2024 00:45 | 405 | ||
checksrc-out.txt | 09-Jul-2024 00:45 | 5.1K | ||
buildsrc-summary.dcf | 09-Jul-2024 00:45 | 405 | ||
buildsrc-out.txt | 09-Jul-2024 00:45 | 889 | ||
install-summary.dcf | 07-Jul-2024 00:45 | 247 | ||
install-out.txt | 07-Jul-2024 00:45 | 934 | ||