Name | Last modified | Size | Description | |
---|---|---|---|---|
Parent Directory | - | |||
install-summary.dcf | 27-Jul-2024 00:43 | 269 | ||
buildsrc-summary.dcf | 27-Jul-2024 00:43 | 427 | ||
checksrc-summary.dcf | 27-Jul-2024 00:43 | 443 | ||
buildbin-summary.dcf | 27-Jul-2024 00:43 | 530 | ||
buildsrc-out.txt | 27-Jul-2024 00:43 | 911 | ||
install-out.txt | 27-Jul-2024 00:43 | 1.0K | ||
buildbin-out.txt | 27-Jul-2024 00:43 | 1.2K | ||
checksrc-out.txt | 27-Jul-2024 00:43 | 5.1K | ||