Back to Multiple platform build/check report for BioC 3.15
ABCDEFGHIJKLMNOPQR[S]TUVWXYZ

This page was generated on 2021-11-30 13:55:12 -0500 (Tue, 30 Nov 2021).

INSTALL results for SCAN.UPC on riesling1

To the developers/maintainers of the SCAN.UPC package:
- Please allow up to 24 hours (and sometimes 48 hours) for your latest push to git@git.bioconductor.org:packages/SCAN.UPC.git to
reflect on this report. See How and When does the builder pull? When will my changes propagate? here for more information.
- Make sure to use the following settings in order to reproduce any error or warning you see on this page.

raw results

Package 1691/2068HostnameOS / ArchINSTALLBUILDCHECKBUILD BIN
SCAN.UPC 2.37.0  (landing page)
Stephen R. Piccolo
Snapshot Date: 2021-11-29 14:50:17 -0500 (Mon, 29 Nov 2021)
git_url: https://git.bioconductor.org/packages/SCAN.UPC
git_branch: master
git_last_commit: 938b30e
git_last_commit_date: 2021-10-26 12:04:49 -0500 (Tue, 26 Oct 2021)
nebbiolo1Linux (Ubuntu 20.04.3 LTS) / x86_64  OK    OK    OK  UNNEEDED, same version is already published
riesling1Windows Server 2019 Standard / x64  OK    OK    OK    OK  
merida1macOS 10.14.6 Mojave / x86_64  OK    OK    OK    OK  UNNEEDED, same version is already published

Summary

Package: SCAN.UPC
Version: 2.37.0
Command: C:\cygwin\bin\curl.exe -O http://155.52.207.165/BBS/3.15/bioc/src/contrib/SCAN.UPC_2.37.0.tar.gz && rm -rf SCAN.UPC.buildbin-libdir && mkdir SCAN.UPC.buildbin-libdir && D:\biocbuild\bbs-3.15-bioc\R\bin\R.exe CMD INSTALL --merge-multiarch --build --library=SCAN.UPC.buildbin-libdir SCAN.UPC_2.37.0.tar.gz && D:\biocbuild\bbs-3.15-bioc\R\bin\R.exe CMD INSTALL SCAN.UPC_2.37.0.zip && rm SCAN.UPC_2.37.0.tar.gz SCAN.UPC_2.37.0.zip
StartedAt: 2021-11-29 18:48:21 -0500 (Mon, 29 Nov 2021)
EndedAt: 2021-11-29 18:51:29 -0500 (Mon, 29 Nov 2021)
EllapsedTime: 188.5 seconds
RetCode: 0
Status:   OK  

Command output

##############################################################################
##############################################################################
###
### Running command:
###
###   C:\cygwin\bin\curl.exe -O http://155.52.207.165/BBS/3.15/bioc/src/contrib/SCAN.UPC_2.37.0.tar.gz && rm -rf SCAN.UPC.buildbin-libdir && mkdir SCAN.UPC.buildbin-libdir && D:\biocbuild\bbs-3.15-bioc\R\bin\R.exe CMD INSTALL --merge-multiarch --build --library=SCAN.UPC.buildbin-libdir SCAN.UPC_2.37.0.tar.gz && D:\biocbuild\bbs-3.15-bioc\R\bin\R.exe CMD INSTALL SCAN.UPC_2.37.0.zip && rm SCAN.UPC_2.37.0.tar.gz SCAN.UPC_2.37.0.zip
###
##############################################################################
##############################################################################


  % Total    % Received % Xferd  Average Speed   Time    Time     Time  Current
                                 Dload  Upload   Total   Spent    Left  Speed

  0     0    0     0    0     0      0      0 --:--:-- --:--:-- --:--:--     0
100  273k  100  273k    0     0  1209k      0 --:--:-- --:--:-- --:--:-- 1209k
only one architecture so ignoring '--merge-multiarch'
* installing *source* package 'SCAN.UPC' ...
** using staged installation
** R
** inst
** byte-compile and prepare package for lazy loading
Parallel computing support for 'oligo/crlmm': Disabled
     - Load 'ff'
     - Load and register a 'foreach' adaptor
        Example - Using 'multicore' for 2 cores:
             library(doMC)
             registerDoMC(2)
================================================================================
** help
*** installing help indices
  converting help for package 'SCAN.UPC'
    finding HTML links ... done
    BatchAdjust                             html  
    BatchAdjustFromFile                     html  
    InstallBrainArrayPackage                html  
    ParseMetaFromGtfFile                    html  
    SCAN                                    html  
    SCAN_TwoColor                           html  
    UPC_Generic                             html  
    UPC_Generic_ExpressionSet               html  
    UPC_RNASeq                              html  
    UPC_RNASeq_Single                       html  
    UPC_TwoColor                            html  
** building package indices
** installing vignettes
** testing if installed package can be loaded from temporary location
Parallel computing support for 'oligo/crlmm': Disabled
     - Load 'ff'
     - Load and register a 'foreach' adaptor
        Example - Using 'multicore' for 2 cores:
             library(doMC)
             registerDoMC(2)
================================================================================
** testing if installed package can be loaded from final location
Parallel computing support for 'oligo/crlmm': Disabled
     - Load 'ff'
     - Load and register a 'foreach' adaptor
        Example - Using 'multicore' for 2 cores:
             library(doMC)
             registerDoMC(2)
================================================================================
** testing if installed package keeps a record of temporary installation path
* MD5 sums
packaged installation of 'SCAN.UPC' as SCAN.UPC_2.37.0.zip
* DONE (SCAN.UPC)
* installing to library 'D:/biocbuild/bbs-3.15-bioc/R/library'
package 'SCAN.UPC' successfully unpacked and MD5 sums checked