Back to Multiple platform build/check report for BioC 3.16
ABCDEFGHIJKLMNOPQR[S]TUVWXYZ

This page was generated on 2022-06-24 11:07:09 -0400 (Fri, 24 Jun 2022).

HostnameOSArch (*)R versionInstalled pkgs
nebbiolo2Linux (Ubuntu 20.04.4 LTS)x86_644.2.0 Patched (2022-06-02 r82447) -- "Vigorous Calisthenics" 4331
palomino4Windows Server 2022 Datacenterx644.2.0 Patched (2022-06-02 r82447 ucrt) -- "Vigorous Calisthenics" 4136
lconwaymacOS 12.2.1 Montereyx86_644.2.0 Patched (2022-05-29 r82424) -- "Vigorous Calisthenics" 4147
Click on any hostname to see more info about the system (e.g. compilers)      (*) as reported by 'uname -p', except on Windows and Mac OS X

CHECK results for SCAN.UPC on palomino4


To the developers/maintainers of the SCAN.UPC package:
- Please allow up to 24 hours (and sometimes 48 hours) for your latest push to git@git.bioconductor.org:packages/SCAN.UPC.git to
reflect on this report. See How and When does the builder pull? When will my changes propagate? for more information.
- Make sure to use the following settings in order to reproduce any error or warning you see on this page.

raw results

Package 1729/2118HostnameOS / ArchINSTALLBUILDCHECKBUILD BIN
SCAN.UPC 2.39.0  (landing page)
Stephen R. Piccolo
Snapshot Date: 2022-06-23 14:00:04 -0400 (Thu, 23 Jun 2022)
git_url: https://git.bioconductor.org/packages/SCAN.UPC
git_branch: master
git_last_commit: 1f34cb2
git_last_commit_date: 2022-04-26 11:12:13 -0400 (Tue, 26 Apr 2022)
nebbiolo2Linux (Ubuntu 20.04.4 LTS) / x86_64  OK    OK    OK  UNNEEDED, same version is already published
palomino4Windows Server 2022 Datacenter / x64  OK    OK    OK    OK  UNNEEDED, same version is already published
lconwaymacOS 12.2.1 Monterey / x86_64  OK    OK    OK    OK  UNNEEDED, same version is already published

Summary

Package: SCAN.UPC
Version: 2.39.0
Command: F:\biocbuild\bbs-3.16-bioc\R\bin\R.exe CMD check --force-multiarch --install=check:SCAN.UPC.install-out.txt --library=F:\biocbuild\bbs-3.16-bioc\R\library --no-vignettes --timings SCAN.UPC_2.39.0.tar.gz
StartedAt: 2022-06-24 05:27:01 -0400 (Fri, 24 Jun 2022)
EndedAt: 2022-06-24 05:30:20 -0400 (Fri, 24 Jun 2022)
EllapsedTime: 199.4 seconds
RetCode: 0
Status:   OK  
CheckDir: SCAN.UPC.Rcheck
Warnings: 0

Command output

##############################################################################
##############################################################################
###
### Running command:
###
###   F:\biocbuild\bbs-3.16-bioc\R\bin\R.exe CMD check --force-multiarch --install=check:SCAN.UPC.install-out.txt --library=F:\biocbuild\bbs-3.16-bioc\R\library --no-vignettes --timings SCAN.UPC_2.39.0.tar.gz
###
##############################################################################
##############################################################################


* using log directory 'F:/biocbuild/bbs-3.16-bioc/meat/SCAN.UPC.Rcheck'
* using R version 4.2.0 Patched (2022-06-02 r82447 ucrt)
* using platform: x86_64-w64-mingw32 (64-bit)
* using session charset: UTF-8
* using option '--no-vignettes'
* checking for file 'SCAN.UPC/DESCRIPTION' ... OK
* checking extension type ... Package
* this is package 'SCAN.UPC' version '2.39.0'
* checking package namespace information ... OK
* checking package dependencies ... NOTE
Depends: includes the non-default packages:
  'Biobase', 'oligo', 'Biostrings', 'GEOquery', 'affy', 'affyio',
  'foreach', 'sva'
Adding so many packages to the search path is excessive and importing
selectively is preferable.
* checking if this is a source package ... OK
* checking if there is a namespace ... OK
* checking for hidden files and directories ... OK
* checking for portable file names ... OK
* checking whether package 'SCAN.UPC' can be installed ... OK
* checking installed package size ... OK
* checking package directory ... OK
* checking 'build' directory ... OK
* checking DESCRIPTION meta-information ... NOTE
License components which are templates and need '+ file LICENSE':
  MIT
* checking top-level files ... OK
* checking for left-over files ... OK
* checking index information ... OK
* checking package subdirectories ... OK
* checking R files for non-ASCII characters ... OK
* checking R files for syntax errors ... OK
* checking whether the package can be loaded ... OK
* checking whether the package can be loaded with stated dependencies ... OK
* checking whether the package can be unloaded cleanly ... OK
* checking whether the namespace can be loaded with stated dependencies ... OK
* checking whether the namespace can be unloaded cleanly ... OK
* checking dependencies in R code ... OK
* checking S3 generic/method consistency ... OK
* checking replacement functions ... OK
* checking foreign function calls ... OK
* checking R code for possible problems ... NOTE
BatchAdjust: no visible global function definition for 'varLabels'
BatchAdjust: no visible global function definition for 'exprs<-'
BatchAdjust: no visible global function definition for 'pData'
BatchAdjustFromFile: no visible global function definition for
  'sampleNames'
BatchAdjustFromFile: no visible global function definition for 'pData'
BatchAdjustFromFile: no visible global function definition for
  'varLabels'
BatchAdjustFromFile: no visible global function definition for
  'pData<-'
InstallBrainArrayPackage: no visible global function definition for
  'download.file'
InstallBrainArrayPackage: no visible global function definition for
  'install.packages'
ProcessGtfSubset: no visible global function definition for 'IRanges'
RS_BC: no visible global function definition for 'median'
RS_BC: no visible global function definition for 'dlnorm'
RS_BC: no visible global function definition for 'rlnorm'
UPC_Generic_ExpressionSet: no visible global function definition for
  'pData'
UPC_Generic_ExpressionSet: no visible global function definition for
  'featureData'
UPC_Generic_ExpressionSet: no visible global function definition for
  'DNAStringSet'
UPC_Generic_ExpressionSet: no visible global function definition for
  'exprs<-'
UPC_RNASeq: no visible global function definition for 'runif'
UPC_RNASeq: no visible global function definition for 'sampleNames<-'
UPC_RNASeq: no visible global function definition for 'featureNames<-'
UPC_nb: no visible global function definition for 'dnbinom'
UPC_nn: no visible global function definition for 'median'
UPC_nn: no visible global function definition for 'var'
UPC_nn: no visible global function definition for 'dnorm'
UPC_nn: no visible global function definition for 'rnorm'
UPC_nn_bayes: no visible global function definition for 'median'
UPC_nn_bayes: no visible global function definition for 'var'
assign_bin: no visible global function definition for 'rnorm'
channelNormalize: no visible global function definition for 'var'
downloadBeadChipFromGEO: no visible global function definition for
  'untar'
downloadFromGEO: no visible global function definition for 'untar'
iglNormalize: no visible global function definition for 'loess'
madNormalize: no visible global function definition for 'median'
processCelFiles: no visible global function definition for '%dopar%'
processCelFiles: no visible global function definition for
  'sampleNames<-'
processCelFiles: no visible global function definition for
  'featureNames<-'
processTwoColor: no visible global function definition for
  'sampleNames<-'
processTwoColor: no visible global function definition for
  'featureNames<-'
readAgilentData: no visible global function definition for 'read.delim'
Undefined global functions or variables:
  %dopar% DNAStringSet IRanges dlnorm dnbinom dnorm download.file
  exprs<- featureData featureNames<- install.packages loess median
  pData pData<- read.delim rlnorm rnorm runif sampleNames sampleNames<-
  untar var varLabels
Consider adding
  importFrom("stats", "dlnorm", "dnbinom", "dnorm", "loess", "median",
             "rlnorm", "rnorm", "runif", "var")
  importFrom("utils", "download.file", "install.packages", "read.delim",
             "untar")
to your NAMESPACE file.
* checking Rd files ... OK
* checking Rd metadata ... OK
* checking Rd cross-references ... OK
* checking for missing documentation entries ... OK
* checking for code/documentation mismatches ... OK
* checking Rd \usage sections ... OK
* checking Rd contents ... OK
* checking for unstated dependencies in examples ... OK
* checking sizes of PDF files under 'inst/doc' ... OK
* checking files in 'vignettes' ... OK
* checking examples ... OK
* checking for unstated dependencies in vignettes ... OK
* checking package vignettes in 'inst/doc' ... OK
* checking running R code from vignettes ... SKIPPED
* checking re-building of vignette outputs ... SKIPPED
* checking PDF version of manual ... OK
* DONE

Status: 3 NOTEs
See
  'F:/biocbuild/bbs-3.16-bioc/meat/SCAN.UPC.Rcheck/00check.log'
for details.



Installation output

SCAN.UPC.Rcheck/00install.out

##############################################################################
##############################################################################
###
### Running command:
###
###   C:\cygwin\bin\curl.exe -O http://155.52.207.166/BBS/3.16/bioc/src/contrib/SCAN.UPC_2.39.0.tar.gz && rm -rf SCAN.UPC.buildbin-libdir && mkdir SCAN.UPC.buildbin-libdir && F:\biocbuild\bbs-3.16-bioc\R\bin\R.exe CMD INSTALL --merge-multiarch --build --library=SCAN.UPC.buildbin-libdir SCAN.UPC_2.39.0.tar.gz && F:\biocbuild\bbs-3.16-bioc\R\bin\R.exe CMD INSTALL SCAN.UPC_2.39.0.zip && rm SCAN.UPC_2.39.0.tar.gz SCAN.UPC_2.39.0.zip
###
##############################################################################
##############################################################################


  % Total    % Received % Xferd  Average Speed   Time    Time     Time  Current
                                 Dload  Upload   Total   Spent    Left  Speed

  0     0    0     0    0     0      0      0 --:--:-- --:--:-- --:--:--     0
100  274k  100  274k    0     0  3336k      0 --:--:-- --:--:-- --:--:-- 3391k
only one architecture so ignoring '--merge-multiarch'
* installing *source* package 'SCAN.UPC' ...
** using staged installation
** R
** inst
** byte-compile and prepare package for lazy loading
Parallel computing support for 'oligo/crlmm': Disabled
     - Load 'ff'
     - Load and register a 'foreach' adaptor
        Example - Using 'multicore' for 2 cores:
             library(doMC)
             registerDoMC(2)
================================================================================
** help
*** installing help indices
** building package indices
** installing vignettes
** testing if installed package can be loaded from temporary location
Parallel computing support for 'oligo/crlmm': Disabled
     - Load 'ff'
     - Load and register a 'foreach' adaptor
        Example - Using 'multicore' for 2 cores:
             library(doMC)
             registerDoMC(2)
================================================================================
** testing if installed package can be loaded from final location
Parallel computing support for 'oligo/crlmm': Disabled
     - Load 'ff'
     - Load and register a 'foreach' adaptor
        Example - Using 'multicore' for 2 cores:
             library(doMC)
             registerDoMC(2)
================================================================================
** testing if installed package keeps a record of temporary installation path
* MD5 sums
packaged installation of 'SCAN.UPC' as SCAN.UPC_2.39.0.zip
* DONE (SCAN.UPC)
* installing to library 'F:/biocbuild/bbs-3.16-bioc/R/library'
package 'SCAN.UPC' successfully unpacked and MD5 sums checked

Tests output


Example timings

SCAN.UPC.Rcheck/SCAN.UPC-Ex.timings

nameusersystemelapsed
InstallBrainArrayPackage000
ParseMetaFromGtfFile000
SCAN000
SCAN_TwoColor000
UPC_Generic_ExpressionSet000
UPC_RNASeq000
UPC_TwoColor0.000.010.01