Back to Multiple platform build/check report for BioC 3.15
ABCDEFGHIJKLMNOPQR[S]TUVWXYZ

This page was generated on 2022-01-27 11:07:57 -0500 (Thu, 27 Jan 2022).

HostnameOSArch (*)R versionInstalled pkgs
nebbiolo1Linux (Ubuntu 20.04.4 LTS)x86_64R Under development (unstable) (2022-01-05 r81451) -- "Unsuffered Consequences" 4167
riesling1Windows Server 2019 Standardx64R Under development (unstable) (2021-11-21 r81221) -- "Unsuffered Consequences" 4062
palomino3Windows Server 2022 Datacenterx64R Under development (unstable) (2021-12-21 r81400 ucrt) -- "Unsuffered Consequences" 4004
merida1macOS 10.14.6 Mojavex86_64R Under development (unstable) (2022-01-05 r81451) -- "Unsuffered Consequences" 4121
Click on any hostname to see more info about the system (e.g. compilers)      (*) as reported by 'uname -p', except on Windows and Mac OS X

CHECK results for SBGNview on riesling1


To the developers/maintainers of the SBGNview package:
- Please allow up to 24 hours (and sometimes 48 hours) for your latest push to git@git.bioconductor.org:packages/SBGNview.git to
reflect on this report. See How and When does the builder pull? When will my changes propagate? here for more information.
- Make sure to use the following settings in order to reproduce any error or warning you see on this page.

raw results

Package 1694/2077HostnameOS / ArchINSTALLBUILDCHECKBUILD BIN
SBGNview 1.9.0  (landing page)
Weijun Luo
Snapshot Date: 2022-01-26 13:55:18 -0500 (Wed, 26 Jan 2022)
git_url: https://git.bioconductor.org/packages/SBGNview
git_branch: master
git_last_commit: c9a6db7
git_last_commit_date: 2021-10-26 12:52:48 -0500 (Tue, 26 Oct 2021)
nebbiolo1Linux (Ubuntu 20.04.4 LTS) / x86_64  OK    OK    OK  UNNEEDED, same version is already published
riesling1Windows Server 2019 Standard / x64  OK    OK    OK    NA  
palomino3Windows Server 2022 Datacenter / x64  OK    OK    OK    OK  NO, package depends on 'pathview' which is not available
merida1macOS 10.14.6 Mojave / x86_64  OK    OK    OK    OK  UNNEEDED, same version is already published

Summary

Package: SBGNview
Version: 1.9.0
Command: D:\biocbuild\bbs-3.15-bioc\R\bin\R.exe CMD check --no-multiarch --install=check:SBGNview.install-out.txt --library=D:\biocbuild\bbs-3.15-bioc\R\library --no-vignettes --timings SBGNview_1.9.0.tar.gz
StartedAt: 2022-01-26 20:02:06 -0500 (Wed, 26 Jan 2022)
EndedAt: 2022-01-26 20:05:43 -0500 (Wed, 26 Jan 2022)
EllapsedTime: 217.7 seconds
RetCode: 0
Status:   OK  
CheckDir: SBGNview.Rcheck
Warnings: 0

Command output

##############################################################################
##############################################################################
###
### Running command:
###
###   D:\biocbuild\bbs-3.15-bioc\R\bin\R.exe CMD check --no-multiarch --install=check:SBGNview.install-out.txt --library=D:\biocbuild\bbs-3.15-bioc\R\library --no-vignettes --timings SBGNview_1.9.0.tar.gz
###
##############################################################################
##############################################################################


* using log directory 'D:/biocbuild/bbs-3.15-bioc/meat/SBGNview.Rcheck'
* using R Under development (unstable) (2021-11-21 r81221)
* using platform: x86_64-w64-mingw32 (64-bit)
* using session charset: ISO8859-1
* using option '--no-vignettes'
* checking for file 'SBGNview/DESCRIPTION' ... OK
* this is package 'SBGNview' version '1.9.0'
* package encoding: UTF-8
* checking package namespace information ... OK
* checking package dependencies ... OK
* checking if this is a source package ... OK
* checking if there is a namespace ... OK
* checking for hidden files and directories ... OK
* checking for portable file names ... OK
* checking whether package 'SBGNview' can be installed ... OK
* checking installed package size ... OK
* checking package directory ... OK
* checking 'build' directory ... OK
* checking DESCRIPTION meta-information ... OK
* checking top-level files ... OK
* checking for left-over files ... OK
* checking index information ... OK
* checking package subdirectories ... OK
* checking R files for non-ASCII characters ... OK
* checking R files for syntax errors ... OK
* checking whether the package can be loaded ... OK
* checking whether the package can be loaded with stated dependencies ... OK
* checking whether the package can be unloaded cleanly ... OK
* checking whether the namespace can be loaded with stated dependencies ... OK
* checking whether the namespace can be unloaded cleanly ... OK
* checking dependencies in R code ... NOTE
Namespace in Imports field not imported from: 'bookdown'
  All declared Imports should be used.
* checking S3 generic/method consistency ... OK
* checking replacement functions ... OK
* checking foreign function calls ... OK
* checking R code for possible problems ... NOTE
File 'SBGNview/R/zzz.R':
  .onLoad calls:
    packageStartupMessage(disclaimer)

See section 'Good practice' in '?.onAttach'.

generate.cpd.mapping.table: no visible binding for global variable
  'cpd.simtypes'
generate.ko.mapping.list: no visible binding for global variable 'korg'
loadMappingTable: no visible binding for global variable 'korg'
mapping.ko.to.arbitrary.id.type: no visible binding for global variable
  'gene.idtype.list'
mapping.ko.to.arbitrary.id.type: no visible binding for global variable
  'korg'
mol.sum.multiple.mapping: no visible binding for global variable 'IQR'
Undefined global functions or variables:
  IQR cpd.simtypes gene.idtype.list korg
Consider adding
  importFrom("stats", "IQR")
to your NAMESPACE file.
* checking Rd files ... OK
* checking Rd metadata ... OK
* checking Rd cross-references ... OK
* checking for missing documentation entries ... OK
* checking for code/documentation mismatches ... OK
* checking Rd \usage sections ... OK
* checking Rd contents ... OK
* checking for unstated dependencies in examples ... OK
* checking contents of 'data' directory ... OK
* checking data for non-ASCII characters ... OK
* checking data for ASCII and uncompressed saves ... OK
* checking files in 'vignettes' ... OK
* checking examples ... OK
Examples with CPU (user + system) or elapsed time > 5s
           user system elapsed
SBGNview  11.98   0.65   12.68
sbgnNodes  6.03   0.58    6.61
* checking for unstated dependencies in 'tests' ... OK
* checking tests ...
  Running 'testthat.R'
 OK
* checking for unstated dependencies in vignettes ... OK
* checking package vignettes in 'inst/doc' ... OK
* checking running R code from vignettes ... SKIPPED
* checking re-building of vignette outputs ... SKIPPED
* checking PDF version of manual ... OK
* DONE

Status: 2 NOTEs
See
  'D:/biocbuild/bbs-3.15-bioc/meat/SBGNview.Rcheck/00check.log'
for details.



Installation output

SBGNview.Rcheck/00install.out

##############################################################################
##############################################################################
###
### Running command:
###
###   D:\biocbuild\bbs-3.15-bioc\R\bin\R.exe CMD INSTALL SBGNview
###
##############################################################################
##############################################################################


* installing to library 'D:/biocbuild/bbs-3.15-bioc/R/library'
* installing *source* package 'SBGNview' ...
** using staged installation
** R
** data
** inst
** byte-compile and prepare package for lazy loading
** help
*** installing help indices
  converting help for package 'SBGNview'
    finding HTML links ... done
    SBGNhub.id.mapping.tables               html  
    SBGNview                                html  
    arc-class                               html  
    changeDataId                            html  
    changeIds                               html  
    downloadSbgnFile                        html  
    findPathways                            html  
    glyph-class                             html  
    highlightArcs                           html  
    highlightNodes                          html  
    highlightPath                           html  
    loadMappingTable                        html  
    mapped.ids                              html  
    outputFile-set                          html  
    outputFile                              html  
    pathways.info                           html  
    pathways.stats                          html  
    plus-.SBGNview                          html  
    print.SBGNview                          html  
    renderSbgn                              html  
    sbgn.gsets                              html  
    sbgnNodes                               html  
    spline.arc-class                        html  
** building package indices
** installing vignettes
** testing if installed package can be loaded from temporary location
** testing if installed package can be loaded from final location
** testing if installed package keeps a record of temporary installation path
* DONE (SBGNview)
Making 'packages.html' ...Warning in packageDescription(i, lib.loc = lib, fields = "Title", encoding = "UTF-8") :
  DESCRIPTION file of package 'ssviz' is missing or broken
 done

Tests output

SBGNview.Rcheck/tests/testthat.Rout


R Under development (unstable) (2021-11-21 r81221) -- "Unsuffered Consequences"
Copyright (C) 2021 The R Foundation for Statistical Computing
Platform: x86_64-w64-mingw32/x64 (64-bit)

R is free software and comes with ABSOLUTELY NO WARRANTY.
You are welcome to redistribute it under certain conditions.
Type 'license()' or 'licence()' for distribution details.

R is a collaborative project with many contributors.
Type 'contributors()' for more information and
'citation()' on how to cite R or R packages in publications.

Type 'demo()' for some demos, 'help()' for on-line help, or
'help.start()' for an HTML browser interface to help.
Type 'q()' to quit R.

> library(testthat)
> library(SBGNview)
Loading required package: pathview

##############################################################################
Pathview is an open source software package distributed under GNU General
Public License version 3 (GPLv3). Details of GPLv3 is available at
http://www.gnu.org/licenses/gpl-3.0.html. Particullary, users are required to
formally cite the original Pathview paper (not just mention it) in publications
or products. For details, do citation("pathview") within R.

The pathview downloads and uses KEGG data. Non-academic uses may require a KEGG
license agreement (details at http://www.kegg.jp/kegg/legal.html).
##############################################################################
Loading required package: SBGNview.data
##############################################################################
SBGNview is an open source software package distributed under GNU General
Public License version 3 (GPLv3). Details of GPLv3 is available at
http://www.gnu.org/licenses/gpl-3.0.html.

Users are required to formally cite the SBGNview paper and Pathview paper (not
just mention them) in publications or products. For details, do
'citation("SBGNview"); citation("Pathview")' within R.
##############################################################################
> 
> test_check("SBGNview")
trying URL 'https://raw.githubusercontent.com/datapplab/SBGNhub/master/data/id.mapping.unique.pair.name/compound.name_metacyc.SBGN.RData'
 length 1795999 bytes (1.7 MB)
==================================================
downloaded 1.7 MB

trying URL 'https://raw.githubusercontent.com/datapplab/SBGNhub/master/data/id.mapping.unique.pair.name/kegg_metacyc.SBGN.RData'
Content length 171925 bytes (167 KB)
==================================================
downloaded 167 KB

trying URL 'https://raw.githubusercontent.com/datapplab/SBGNhub/master/data/id.mapping.unique.pair.name/kegg_pathway.id.RData'
Content length 195623 bytes (191 KB)
==================================================
downloaded 191 KB

[ FAIL 0 | WARN 1 | SKIP 0 | PASS 14 ]

[ FAIL 0 | WARN 1 | SKIP 0 | PASS 14 ]
> 
> proc.time()
   user  system elapsed 
  22.96    1.45   26.26 

Example timings

SBGNview.Rcheck/SBGNview-Ex.timings

nameusersystemelapsed
SBGNview11.98 0.6512.68
changeDataId0.020.000.01
changeIds0.480.060.55
downloadSbgnFile3.990.224.20
findPathways0.030.000.03
highlightArcs000
highlightNodes000
highlightPath000
loadMappingTable0.480.030.52
outputFile-set000
outputFile000
plus-.SBGNview000
print.SBGNview4.460.084.56
renderSbgn000
sbgn.gsets0.920.081.00
sbgnNodes6.030.586.61