Back to Multiple platform build/check report for BioC 3.15
ABCDEFGHIJKLMNOPQR[S]TUVWXYZ

This page was generated on 2022-01-15 11:08:33 -0500 (Sat, 15 Jan 2022).

HostnameOSArch (*)R versionInstalled pkgs
nebbiolo1Linux (Ubuntu 20.04.4 LTS)x86_64R Under development (unstable) (2022-01-05 r81451) -- "Unsuffered Consequences" 4160
riesling1Windows Server 2019 Standardx64R Under development (unstable) (2021-11-21 r81221) -- "Unsuffered Consequences" 4055
palomino3Windows Server 2022 Datacenterx64R Under development (unstable) (2021-12-21 r81400 ucrt) -- "Unsuffered Consequences" 3997
merida1macOS 10.14.6 Mojavex86_64R Under development (unstable) (2022-01-05 r81451) -- "Unsuffered Consequences" 4114
Click on any hostname to see more info about the system (e.g. compilers)      (*) as reported by 'uname -p', except on Windows and Mac OS X

BUILD BIN results for SBGNview on riesling1


To the developers/maintainers of the SBGNview package:
- Please allow up to 24 hours (and sometimes 48 hours) for your latest push to git@git.bioconductor.org:packages/SBGNview.git to
reflect on this report. See How and When does the builder pull? When will my changes propagate? here for more information.
- Make sure to use the following settings in order to reproduce any error or warning you see on this page.

raw results

Package 1691/2074HostnameOS / ArchINSTALLBUILDCHECKBUILD BIN
SBGNview 1.9.0  (landing page)
Weijun Luo
Snapshot Date: 2022-01-14 13:55:18 -0500 (Fri, 14 Jan 2022)
git_url: https://git.bioconductor.org/packages/SBGNview
git_branch: master
git_last_commit: c9a6db7
git_last_commit_date: 2021-10-26 12:52:48 -0500 (Tue, 26 Oct 2021)
nebbiolo1Linux (Ubuntu 20.04.4 LTS) / x86_64  OK    OK    OK  UNNEEDED, same version is already published
riesling1Windows Server 2019 Standard / x64  OK    OK    OK    OK  
palomino3Windows Server 2022 Datacenter / x64  OK    OK    OK    OK  NO, package depends on 'pathview' which is not available
merida1macOS 10.14.6 Mojave / x86_64  OK    OK    OK    OK  UNNEEDED, same version is already published

Summary

Package: SBGNview
Version: 1.9.0
Command: rm -rf SBGNview.buildbin-libdir && mkdir SBGNview.buildbin-libdir && D:\biocbuild\bbs-3.15-bioc\R\bin\R.exe CMD INSTALL --build --library=SBGNview.buildbin-libdir SBGNview_1.9.0.tar.gz
StartedAt: 2022-01-14 21:21:10 -0500 (Fri, 14 Jan 2022)
EndedAt: 2022-01-14 21:22:17 -0500 (Fri, 14 Jan 2022)
EllapsedTime: 67.1 seconds
RetCode: 0
Status:   OK  
PackageFile: SBGNview_1.9.0.zip
PackageFileSize: 2.072 MiB

Command output

##############################################################################
##############################################################################
###
### Running command:
###
###   rm -rf SBGNview.buildbin-libdir && mkdir SBGNview.buildbin-libdir && D:\biocbuild\bbs-3.15-bioc\R\bin\R.exe CMD INSTALL --build --library=SBGNview.buildbin-libdir SBGNview_1.9.0.tar.gz
###
##############################################################################
##############################################################################


* installing *source* package 'SBGNview' ...
** using staged installation
** R
** data
** inst
** byte-compile and prepare package for lazy loading
** help
*** installing help indices
  converting help for package 'SBGNview'
    finding HTML links ... done
    SBGNhub.id.mapping.tables               html  
    SBGNview                                html  
    arc-class                               html  
    changeDataId                            html  
    changeIds                               html  
    downloadSbgnFile                        html  
    findPathways                            html  
    glyph-class                             html  
    highlightArcs                           html  
    highlightNodes                          html  
    highlightPath                           html  
    loadMappingTable                        html  
    mapped.ids                              html  
    outputFile-set                          html  
    outputFile                              html  
    pathways.info                           html  
    pathways.stats                          html  
    plus-.SBGNview                          html  
    print.SBGNview                          html  
    renderSbgn                              html  
    sbgn.gsets                              html  
    sbgnNodes                               html  
    spline.arc-class                        html  
** building package indices
** installing vignettes
** testing if installed package can be loaded from temporary location
** testing if installed package can be loaded from final location
** testing if installed package keeps a record of temporary installation path
* MD5 sums
packaged installation of 'SBGNview' as SBGNview_1.9.0.zip
* DONE (SBGNview)