![]() | Name | Last modified | Size | Description |
---|---|---|---|---|
![]() | Parent Directory | - | ||
![]() | buildbin-out.txt | 23-Sep-2023 00:38 | 1.1K | |
![]() | buildbin-summary.dcf | 23-Sep-2023 00:38 | 521 | |
![]() | buildsrc-out.txt | 23-Sep-2023 00:38 | 904 | |
![]() | buildsrc-summary.dcf | 23-Sep-2023 00:38 | 457 | |
![]() | checksrc-out.txt | 23-Sep-2023 00:38 | 4.4K | |
![]() | checksrc-summary.dcf | 23-Sep-2023 00:38 | 451 | |
![]() | install-out.txt | 23-Sep-2023 00:38 | 1.0K | |
![]() | install-summary.dcf | 23-Sep-2023 00:38 | 270 | |